BEGIN:VCALENDAR
VERSION:2.0
PRODID:-//Harry &amp; Rose Samson Family Jewish Community Center - ECPv6.6.4.2//NONSGML v1.0//EN
CALSCALE:GREGORIAN
METHOD:PUBLISH
X-ORIGINAL-URL:https://www.jccmilwaukee.org
X-WR-CALDESC:Events for Harry &amp; Rose Samson Family Jewish Community Center
REFRESH-INTERVAL;VALUE=DURATION:PT1H
X-Robots-Tag:noindex
X-PUBLISHED-TTL:PT1H
BEGIN:VTIMEZONE
TZID:America/Chicago
BEGIN:DAYLIGHT
TZOFFSETFROM:-0600
TZOFFSETTO:-0500
TZNAME:CDT
DTSTART:20260308T080000
END:DAYLIGHT
BEGIN:STANDARD
TZOFFSETFROM:-0500
TZOFFSETTO:-0600
TZNAME:CST
DTSTART:20261101T070000
END:STANDARD
END:VTIMEZONE
BEGIN:VEVENT
DTSTART;TZID=America/Chicago:20260401T000000
DTEND;TZID=America/Chicago:20260430T235959
DTSTAMP:20260422T200002
CREATED:20251125T222250Z
LAST-MODIFIED:20251125T222250Z
UID:10049828-1775001600-1777593599@www.jccmilwaukee.org
SUMMARY:April Pickleball Pass
DESCRIPTION:
URL:https://www.jccmilwaukee.org/event/april-pickleball-pass/
LOCATION:Harry & Rose Samson Family JCC\, 6255 North Santa Monica Blvd\, Milwaukee\, WI\, 53217\, United States
CATEGORIES:Class
END:VEVENT
BEGIN:VEVENT
DTSTART;TZID=America/Chicago:20260401T000000
DTEND;TZID=America/Chicago:20260430T235959
DTSTAMP:20260422T200002
CREATED:20260406T205617Z
LAST-MODIFIED:20260406T205617Z
UID:10063860-1775001600-1777593599@www.jccmilwaukee.org
SUMMARY:April Dance Pass
DESCRIPTION:
URL:https://www.jccmilwaukee.org/event/april-dance-pass/
LOCATION:Harry & Rose Samson Family JCC\, 6255 North Santa Monica Blvd\, Milwaukee\, WI\, 53217\, United States
CATEGORIES:Class
END:VEVENT
BEGIN:VEVENT
DTSTART;TZID=America/Chicago:20260413T080000
DTEND;TZID=America/Chicago:20260413T085000
DTSTAMP:20260422T200002
CREATED:20260306T154409Z
LAST-MODIFIED:20260306T154409Z
UID:10058429-1776067200-1776070200@www.jccmilwaukee.org
SUMMARY:Advanced Classical Reformer
DESCRIPTION:
URL:https://www.jccmilwaukee.org/event/advanced-classical-reformer-2/2026-04-13/
LOCATION:Harry & Rose Samson Family JCC\, 6255 North Santa Monica Blvd\, Milwaukee\, WI\, 53217\, United States
CATEGORIES:Class
END:VEVENT
BEGIN:VEVENT
DTSTART;TZID=America/Chicago:20260413T080000
DTEND;TZID=America/Chicago:20260413T110000
DTSTAMP:20260422T200002
CREATED:20260320T145609Z
LAST-MODIFIED:20260320T145609Z
UID:10062270-1776067200-1776078000@www.jccmilwaukee.org
SUMMARY:Monday\, April 13
DESCRIPTION:
URL:https://www.jccmilwaukee.org/event/monday-april-13/
LOCATION:Harry & Rose Samson Family JCC\, 6255 North Santa Monica Blvd\, Milwaukee\, WI\, 53217\, United States
CATEGORIES:Class
END:VEVENT
BEGIN:VEVENT
DTSTART;TZID=America/Chicago:20260413T090000
DTEND;TZID=America/Chicago:20260413T095000
DTSTAMP:20260422T200002
CREATED:20260306T160514Z
LAST-MODIFIED:20260306T160514Z
UID:10058473-1776070800-1776073800@www.jccmilwaukee.org
SUMMARY:Intermediate Classical Reformer
DESCRIPTION:
URL:https://www.jccmilwaukee.org/event/intermediate-classical-reformer-5/2026-04-13/
LOCATION:Harry & Rose Samson Family JCC\, 6255 North Santa Monica Blvd\, Milwaukee\, WI\, 53217\, United States
CATEGORIES:Class
END:VEVENT
BEGIN:VEVENT
DTSTART;TZID=America/Chicago:20260413T090000
DTEND;TZID=America/Chicago:20260413T095000
DTSTAMP:20260422T200002
CREATED:20260324T144644Z
LAST-MODIFIED:20260324T144644Z
UID:10062656-1776070800-1776073800@www.jccmilwaukee.org
SUMMARY:Beginner Mat and Tower
DESCRIPTION:
URL:https://www.jccmilwaukee.org/event/beginner-mat-and-tower/2026-04-13/
LOCATION:Harry & Rose Samson Family JCC\, 6255 North Santa Monica Blvd\, Milwaukee\, WI\, 53217\, United States
CATEGORIES:Class
END:VEVENT
BEGIN:VEVENT
DTSTART;TZID=America/Chicago:20260413T100000
DTEND;TZID=America/Chicago:20260413T105000
DTSTAMP:20260422T200002
CREATED:20260306T162711Z
LAST-MODIFIED:20260306T162711Z
UID:10058517-1776074400-1776077400@www.jccmilwaukee.org
SUMMARY:Intermediate Mat and Tower Pilates
DESCRIPTION:
URL:https://www.jccmilwaukee.org/event/intermediate-mat-and-tower-pilates-3/2026-04-13/
LOCATION:Harry & Rose Samson Family JCC\, 6255 North Santa Monica Blvd\, Milwaukee\, WI\, 53217\, United States
CATEGORIES:Class
END:VEVENT
BEGIN:VEVENT
DTSTART;TZID=America/Chicago:20260413T110000
DTEND;TZID=America/Chicago:20260413T113000
DTSTAMP:20260422T200002
CREATED:20260125T163812Z
LAST-MODIFIED:20260125T163812Z
UID:10056892-1776078000-1776079800@www.jccmilwaukee.org
SUMMARY:Stories & Songs
DESCRIPTION:
URL:https://www.jccmilwaukee.org/event/stories-songs/2026-04-13/
LOCATION:Harry & Rose Samson Family JCC\, 6255 North Santa Monica Blvd\, Milwaukee\, WI\, 53217\, United States
CATEGORIES:Class
END:VEVENT
BEGIN:VEVENT
DTSTART;TZID=America/Chicago:20260413T130000
DTEND;TZID=America/Chicago:20260413T134500
DTSTAMP:20260422T200002
CREATED:20260303T181907Z
LAST-MODIFIED:20260303T181907Z
UID:10058041-1776085200-1776087900@www.jccmilwaukee.org
SUMMARY:Little Artists Lab
DESCRIPTION:
URL:https://www.jccmilwaukee.org/event/little-artists-lab/2026-04-13/
LOCATION:Harry & Rose Samson Family JCC\, 6255 North Santa Monica Blvd\, Milwaukee\, WI\, 53217\, United States
CATEGORIES:Class
END:VEVENT
BEGIN:VEVENT
DTSTART;TZID=America/Chicago:20260413T134500
DTEND;TZID=America/Chicago:20260413T143000
DTSTAMP:20260422T200002
CREATED:20260309T130627Z
LAST-MODIFIED:20260309T130627Z
UID:10059240-1776087900-1776090600@www.jccmilwaukee.org
SUMMARY:Gym Explorers
DESCRIPTION:
URL:https://www.jccmilwaukee.org/event/gym-explorers-3/2026-04-13/
LOCATION:Harry & Rose Samson Family JCC\, 6255 North Santa Monica Blvd\, Milwaukee\, WI\, 53217\, United States
CATEGORIES:Class
END:VEVENT
BEGIN:VEVENT
DTSTART;TZID=America/Chicago:20260413T152000
DTEND;TZID=America/Chicago:20260413T155000
DTSTAMP:20260422T200002
CREATED:20260309T133809Z
LAST-MODIFIED:20260309T133809Z
UID:10059548-1776093600-1776095400@www.jccmilwaukee.org
SUMMARY:Ultimate Ninja Warrior
DESCRIPTION:
URL:https://www.jccmilwaukee.org/event/ultimate-ninja-warrior-4/2026-04-13/
LOCATION:Harry & Rose Samson Family JCC\, 6255 North Santa Monica Blvd\, Milwaukee\, WI\, 53217\, United States
CATEGORIES:Class
END:VEVENT
BEGIN:VEVENT
DTSTART;TZID=America/Chicago:20260413T152500
DTEND;TZID=America/Chicago:20260413T155500
DTSTAMP:20260422T200002
CREATED:20260309T130624Z
LAST-MODIFIED:20260309T130624Z
UID:10059224-1776093900-1776095700@www.jccmilwaukee.org
SUMMARY:Gan Ami Pre-School Level 2
DESCRIPTION:
URL:https://www.jccmilwaukee.org/event/gan-ami-pre-school-level-2-7/2026-04-13/
LOCATION:Harry & Rose Samson Family JCC\, 6255 North Santa Monica Blvd\, Milwaukee\, WI\, 53217\, United States
CATEGORIES:Class
END:VEVENT
BEGIN:VEVENT
DTSTART;TZID=America/Chicago:20260413T152500
DTEND;TZID=America/Chicago:20260413T155500
DTSTAMP:20260422T200002
CREATED:20260309T131709Z
LAST-MODIFIED:20260309T131709Z
UID:10059256-1776093900-1776095700@www.jccmilwaukee.org
SUMMARY:Gan Ami Pre-School Level 3
DESCRIPTION:
URL:https://www.jccmilwaukee.org/event/gan-ami-pre-school-level-3-3/2026-04-13/
LOCATION:Harry & Rose Samson Family JCC\, 6255 North Santa Monica Blvd\, Milwaukee\, WI\, 53217\, United States
CATEGORIES:Class
END:VEVENT
BEGIN:VEVENT
DTSTART;TZID=America/Chicago:20260413T160000
DTEND;TZID=America/Chicago:20260413T163000
DTSTAMP:20260422T200002
CREATED:20260309T010308Z
LAST-MODIFIED:20260309T010308Z
UID:10059012-1776096000-1776097800@www.jccmilwaukee.org
SUMMARY:Pre-School Level 2
DESCRIPTION:
URL:https://www.jccmilwaukee.org/event/pre-school-level-2-2/2026-04-13/
LOCATION:Harry & Rose Samson Family JCC\, 6255 North Santa Monica Blvd\, Milwaukee\, WI\, 53217\, United States
CATEGORIES:Class
END:VEVENT
BEGIN:VEVENT
DTSTART;TZID=America/Chicago:20260413T160000
DTEND;TZID=America/Chicago:20260413T163000
DTSTAMP:20260422T200002
CREATED:20260309T010310Z
LAST-MODIFIED:20260309T010310Z
UID:10059020-1776096000-1776097800@www.jccmilwaukee.org
SUMMARY:Pre-School Level 1
DESCRIPTION:
URL:https://www.jccmilwaukee.org/event/pre-school-level-1-11/2026-04-13/
LOCATION:Harry & Rose Samson Family JCC\, 6255 North Santa Monica Blvd\, Milwaukee\, WI\, 53217\, United States
CATEGORIES:Class
END:VEVENT
BEGIN:VEVENT
DTSTART;TZID=America/Chicago:20260413T160000
DTEND;TZID=America/Chicago:20260413T163000
DTSTAMP:20260422T200002
CREATED:20260309T010311Z
LAST-MODIFIED:20260309T010311Z
UID:10059028-1776096000-1776097800@www.jccmilwaukee.org
SUMMARY:Pre-School Level 3
DESCRIPTION:
URL:https://www.jccmilwaukee.org/event/pre-school-level-3-4/2026-04-13/
LOCATION:Harry & Rose Samson Family JCC\, 6255 North Santa Monica Blvd\, Milwaukee\, WI\, 53217\, United States
CATEGORIES:Class
END:VEVENT
BEGIN:VEVENT
DTSTART;TZID=America/Chicago:20260413T160000
DTEND;TZID=America/Chicago:20260413T163000
DTSTAMP:20260422T200002
CREATED:20260309T131725Z
LAST-MODIFIED:20260309T131725Z
UID:10059356-1776096000-1776097800@www.jccmilwaukee.org
SUMMARY:Ultimate Ninja Warrior
DESCRIPTION:
URL:https://www.jccmilwaukee.org/event/ultimate-ninja-warrior/2026-04-13/
LOCATION:Harry & Rose Samson Family JCC\, 6255 North Santa Monica Blvd\, Milwaukee\, WI\, 53217\, United States
CATEGORIES:Class
END:VEVENT
BEGIN:VEVENT
DTSTART;TZID=America/Chicago:20260413T160000
DTEND;TZID=America/Chicago:20260413T163000
DTSTAMP:20260422T200002
CREATED:20260309T143328Z
LAST-MODIFIED:20260309T143328Z
UID:10059732-1776096000-1776097800@www.jccmilwaukee.org
SUMMARY:Youth Level 2
DESCRIPTION:
URL:https://www.jccmilwaukee.org/event/youth-level-2-4/2026-04-13/
LOCATION:Harry & Rose Samson Family JCC\, 6255 North Santa Monica Blvd\, Milwaukee\, WI\, 53217\, United States
CATEGORIES:Class
END:VEVENT
BEGIN:VEVENT
DTSTART;TZID=America/Chicago:20260413T163000
DTEND;TZID=America/Chicago:20260413T172000
DTSTAMP:20260422T200002
CREATED:20260307T230208Z
LAST-MODIFIED:20260307T230208Z
UID:10058818-1776097800-1776100800@www.jccmilwaukee.org
SUMMARY:Advanced Classical Reformer
DESCRIPTION:
URL:https://www.jccmilwaukee.org/event/advanced-classical-reformer-9/2026-04-13/
LOCATION:Harry & Rose Samson Family JCC\, 6255 North Santa Monica Blvd\, Milwaukee\, WI\, 53217\, United States
CATEGORIES:Class
END:VEVENT
BEGIN:VEVENT
DTSTART;TZID=America/Chicago:20260413T163500
DTEND;TZID=America/Chicago:20260413T170500
DTSTAMP:20260422T200002
CREATED:20260309T130626Z
LAST-MODIFIED:20260309T130626Z
UID:10059232-1776098100-1776099900@www.jccmilwaukee.org
SUMMARY:Youth Level 4
DESCRIPTION:
URL:https://www.jccmilwaukee.org/event/youth-level-4/2026-04-13/
LOCATION:Harry & Rose Samson Family JCC\, 6255 North Santa Monica Blvd\, Milwaukee\, WI\, 53217\, United States
CATEGORIES:Class
END:VEVENT
BEGIN:VEVENT
DTSTART;TZID=America/Chicago:20260413T163500
DTEND;TZID=America/Chicago:20260413T170500
DTSTAMP:20260422T200002
CREATED:20260309T162108Z
LAST-MODIFIED:20260309T162108Z
UID:10059996-1776098100-1776099900@www.jccmilwaukee.org
SUMMARY:Youth Level 3
DESCRIPTION:
URL:https://www.jccmilwaukee.org/event/youth-level-3-5/2026-04-13/
LOCATION:Harry & Rose Samson Family JCC\, 6255 North Santa Monica Blvd\, Milwaukee\, WI\, 53217\, United States
CATEGORIES:Class
END:VEVENT
BEGIN:VEVENT
DTSTART;TZID=America/Chicago:20260413T163500
DTEND;TZID=America/Chicago:20260413T170500
DTSTAMP:20260422T200003
CREATED:20260316T144309Z
LAST-MODIFIED:20260316T144309Z
UID:10061717-1776098100-1776099900@www.jccmilwaukee.org
SUMMARY:Pre-School Level 1
DESCRIPTION:
URL:https://www.jccmilwaukee.org/event/pre-school-level-1-6/2026-04-13/
LOCATION:Harry & Rose Samson Family JCC\, 6255 North Santa Monica Blvd\, Milwaukee\, WI\, 53217\, United States
CATEGORIES:Class
END:VEVENT
BEGIN:VEVENT
DTSTART;TZID=America/Chicago:20260413T163500
DTEND;TZID=America/Chicago:20260413T170500
DTSTAMP:20260422T200003
CREATED:20260331T005931Z
LAST-MODIFIED:20260331T005931Z
UID:10063258-1776098100-1776099900@www.jccmilwaukee.org
SUMMARY:Pre-School Level 2
DESCRIPTION:
URL:https://www.jccmilwaukee.org/event/pre-school-level-2-15/2026-04-13/
LOCATION:Harry & Rose Samson Family JCC\, 6255 North Santa Monica Blvd\, Milwaukee\, WI\, 53217\, United States
CATEGORIES:Class
END:VEVENT
BEGIN:VEVENT
DTSTART;TZID=America/Chicago:20260413T164500
DTEND;TZID=America/Chicago:20260413T171500
DTSTAMP:20260422T200003
CREATED:20260312T191215Z
LAST-MODIFIED:20260312T191215Z
UID:10061012-1776098700-1776100500@www.jccmilwaukee.org
SUMMARY:Ultimate Ninja Warrior
DESCRIPTION:
URL:https://www.jccmilwaukee.org/event/ultimate-ninja-warrior-2/2026-04-13/
LOCATION:Harry & Rose Samson Family JCC\, 6255 North Santa Monica Blvd\, Milwaukee\, WI\, 53217\, United States
CATEGORIES:Class
END:VEVENT
BEGIN:VEVENT
DTSTART;TZID=America/Chicago:20260413T171000
DTEND;TZID=America/Chicago:20260413T174000
DTSTAMP:20260422T200003
CREATED:20260317T152226Z
LAST-MODIFIED:20260317T152226Z
UID:10061876-1776100200-1776102000@www.jccmilwaukee.org
SUMMARY:Pre-School Level 1
DESCRIPTION:
URL:https://www.jccmilwaukee.org/event/pre-school-level-1-15/2026-04-13/
LOCATION:Harry & Rose Samson Family JCC\, 6255 North Santa Monica Blvd\, Milwaukee\, WI\, 53217\, United States
CATEGORIES:Class
END:VEVENT
BEGIN:VEVENT
DTSTART;TZID=America/Chicago:20260413T171000
DTEND;TZID=America/Chicago:20260413T174000
DTSTAMP:20260422T200003
CREATED:20260401T163201Z
LAST-MODIFIED:20260401T163201Z
UID:10063478-1776100200-1776102000@www.jccmilwaukee.org
SUMMARY:Youth Level 4
DESCRIPTION:
URL:https://www.jccmilwaukee.org/event/youth-level-4-7/2026-04-13/
LOCATION:Harry & Rose Samson Family JCC\, 6255 North Santa Monica Blvd\, Milwaukee\, WI\, 53217\, United States
CATEGORIES:Class
END:VEVENT
BEGIN:VEVENT
DTSTART;TZID=America/Chicago:20260413T171000
DTEND;TZID=America/Chicago:20260413T174000
DTSTAMP:20260422T200003
CREATED:20260407T152637Z
LAST-MODIFIED:20260407T152637Z
UID:10063952-1776100200-1776102000@www.jccmilwaukee.org
SUMMARY:Youth Level 2
DESCRIPTION:
URL:https://www.jccmilwaukee.org/event/youth-level-2-10/2026-04-13/
LOCATION:Harry & Rose Samson Family JCC\, 6255 North Santa Monica Blvd\, Milwaukee\, WI\, 53217\, United States
CATEGORIES:Class
END:VEVENT
BEGIN:VEVENT
DTSTART;TZID=America/Chicago:20260413T173000
DTEND;TZID=America/Chicago:20260413T180000
DTSTAMP:20260422T200003
CREATED:20260312T191217Z
LAST-MODIFIED:20260312T191217Z
UID:10061020-1776101400-1776103200@www.jccmilwaukee.org
SUMMARY:Ultimate Ninja Warrior
DESCRIPTION:
URL:https://www.jccmilwaukee.org/event/ultimate-ninja-warrior-5/2026-04-13/
LOCATION:Harry & Rose Samson Family JCC\, 6255 North Santa Monica Blvd\, Milwaukee\, WI\, 53217\, United States
CATEGORIES:Class
END:VEVENT
END:VCALENDAR