BEGIN:VCALENDAR
VERSION:2.0
PRODID:-//Harry &amp; Rose Samson Family Jewish Community Center - ECPv6.6.4.2//NONSGML v1.0//EN
CALSCALE:GREGORIAN
METHOD:PUBLISH
X-ORIGINAL-URL:https://www.jccmilwaukee.org
X-WR-CALDESC:Events for Harry &amp; Rose Samson Family Jewish Community Center
REFRESH-INTERVAL;VALUE=DURATION:PT1H
X-Robots-Tag:noindex
X-PUBLISHED-TTL:PT1H
BEGIN:VTIMEZONE
TZID:America/Chicago
BEGIN:DAYLIGHT
TZOFFSETFROM:-0600
TZOFFSETTO:-0500
TZNAME:CDT
DTSTART:20260308T080000
END:DAYLIGHT
BEGIN:STANDARD
TZOFFSETFROM:-0500
TZOFFSETTO:-0600
TZNAME:CST
DTSTART:20261101T070000
END:STANDARD
END:VTIMEZONE
BEGIN:VEVENT
DTSTART;TZID=America/Chicago:20260401T000000
DTEND;TZID=America/Chicago:20260430T235959
DTSTAMP:20260422T183838
CREATED:20251125T222250Z
LAST-MODIFIED:20251125T222250Z
UID:10049828-1775001600-1777593599@www.jccmilwaukee.org
SUMMARY:April Pickleball Pass
DESCRIPTION:
URL:https://www.jccmilwaukee.org/event/april-pickleball-pass/
LOCATION:Harry & Rose Samson Family JCC\, 6255 North Santa Monica Blvd\, Milwaukee\, WI\, 53217\, United States
CATEGORIES:Class
END:VEVENT
BEGIN:VEVENT
DTSTART;TZID=America/Chicago:20260401T000000
DTEND;TZID=America/Chicago:20260430T235959
DTSTAMP:20260422T183838
CREATED:20260406T205617Z
LAST-MODIFIED:20260406T205617Z
UID:10063860-1775001600-1777593599@www.jccmilwaukee.org
SUMMARY:April Dance Pass
DESCRIPTION:
URL:https://www.jccmilwaukee.org/event/april-dance-pass/
LOCATION:Harry & Rose Samson Family JCC\, 6255 North Santa Monica Blvd\, Milwaukee\, WI\, 53217\, United States
CATEGORIES:Class
END:VEVENT
BEGIN:VEVENT
DTSTART;TZID=America/Chicago:20260414T073000
DTEND;TZID=America/Chicago:20260414T083000
DTSTAMP:20260422T183838
CREATED:20260309T133834Z
LAST-MODIFIED:20260309T133834Z
UID:10059648-1776151800-1776155400@www.jccmilwaukee.org
SUMMARY:April Masters Swim Team
DESCRIPTION:
URL:https://www.jccmilwaukee.org/event/april-masters-swim-team/2026-04-14/
LOCATION:Harry & Rose Samson Family JCC\, 6255 North Santa Monica Blvd\, Milwaukee\, WI\, 53217\, United States
CATEGORIES:Class
END:VEVENT
BEGIN:VEVENT
DTSTART;TZID=America/Chicago:20260414T080000
DTEND;TZID=America/Chicago:20260414T110000
DTSTAMP:20260422T183838
CREATED:20260320T145611Z
LAST-MODIFIED:20260320T145611Z
UID:10062271-1776153600-1776164400@www.jccmilwaukee.org
SUMMARY:Tuesday\, April 14
DESCRIPTION:
URL:https://www.jccmilwaukee.org/event/tuesday-april-14/
LOCATION:Harry & Rose Samson Family JCC\, 6255 North Santa Monica Blvd\, Milwaukee\, WI\, 53217\, United States
CATEGORIES:Class
END:VEVENT
BEGIN:VEVENT
DTSTART;TZID=America/Chicago:20260414T081500
DTEND;TZID=America/Chicago:20260414T090500
DTSTAMP:20260422T183838
CREATED:20260306T153310Z
LAST-MODIFIED:20260306T153310Z
UID:10058413-1776154500-1776157500@www.jccmilwaukee.org
SUMMARY:Intermediate Contemporary Reformer
DESCRIPTION:
URL:https://www.jccmilwaukee.org/event/intermediate-contemporary-reformer-2/2026-04-14/
LOCATION:Harry & Rose Samson Family JCC\, 6255 North Santa Monica Blvd\, Milwaukee\, WI\, 53217\, United States
CATEGORIES:Class
END:VEVENT
BEGIN:VEVENT
DTSTART;TZID=America/Chicago:20260414T091500
DTEND;TZID=America/Chicago:20260414T100500
DTSTAMP:20260422T183838
CREATED:20260306T163805Z
LAST-MODIFIED:20260306T163805Z
UID:10058525-1776158100-1776161100@www.jccmilwaukee.org
SUMMARY:Intro to Classical Reformer
DESCRIPTION:
URL:https://www.jccmilwaukee.org/event/intro-to-classical-reformer/2026-04-14/
LOCATION:Harry & Rose Samson Family JCC\, 6255 North Santa Monica Blvd\, Milwaukee\, WI\, 53217\, United States
CATEGORIES:Class
END:VEVENT
BEGIN:VEVENT
DTSTART;TZID=America/Chicago:20260414T101500
DTEND;TZID=America/Chicago:20260414T110500
DTSTAMP:20260422T183838
CREATED:20260309T142227Z
LAST-MODIFIED:20260309T142227Z
UID:10059688-1776161700-1776164700@www.jccmilwaukee.org
SUMMARY:Intermediate Classical Reformer
DESCRIPTION:
URL:https://www.jccmilwaukee.org/event/intermediate-classical-reformer-13/2026-04-14/
LOCATION:Harry & Rose Samson Family JCC\, 6255 North Santa Monica Blvd\, Milwaukee\, WI\, 53217\, United States
CATEGORIES:Class
END:VEVENT
BEGIN:VEVENT
DTSTART;TZID=America/Chicago:20260414T110000
DTEND;TZID=America/Chicago:20260414T113000
DTSTAMP:20260422T183838
CREATED:20260106T214713Z
LAST-MODIFIED:20260106T214713Z
UID:10055135-1776164400-1776166200@www.jccmilwaukee.org
SUMMARY:Open Play
DESCRIPTION:
URL:https://www.jccmilwaukee.org/event/open-play/2026-04-14/
LOCATION:Harry & Rose Samson Family JCC\, 6255 North Santa Monica Blvd\, Milwaukee\, WI\, 53217\, United States
CATEGORIES:Class
END:VEVENT
BEGIN:VEVENT
DTSTART;TZID=America/Chicago:20260414T110000
DTEND;TZID=America/Chicago:20260414T113000
DTSTAMP:20260422T183838
CREATED:20260106T214715Z
LAST-MODIFIED:20260106T214715Z
UID:10055145-1776164400-1776166200@www.jccmilwaukee.org
SUMMARY:Open Play
DESCRIPTION:
URL:https://www.jccmilwaukee.org/event/open-play-2/2026-04-14/
LOCATION:Harry & Rose Samson Family JCC\, 6255 North Santa Monica Blvd\, Milwaukee\, WI\, 53217\, United States
CATEGORIES:Class
END:VEVENT
BEGIN:VEVENT
DTSTART;TZID=America/Chicago:20260414T120000
DTEND;TZID=America/Chicago:20260414T130000
DTSTAMP:20260422T183838
CREATED:20260304T154808Z
LAST-MODIFIED:20260304T154808Z
UID:10058287-1776168000-1776171600@www.jccmilwaukee.org
SUMMARY:Midday Yoga Explorations: Power\, Flow + Recovery
DESCRIPTION:
URL:https://www.jccmilwaukee.org/event/midday-yoga-explorations-power-flow-recovery/2026-04-14/
LOCATION:Harry & Rose Samson Family JCC\, 6255 North Santa Monica Blvd\, Milwaukee\, WI\, 53217\, United States
CATEGORIES:Class
END:VEVENT
BEGIN:VEVENT
DTSTART;TZID=America/Chicago:20260414T130000
DTEND;TZID=America/Chicago:20260414T134500
DTSTAMP:20260422T183838
CREATED:20260309T130629Z
LAST-MODIFIED:20260309T130629Z
UID:10059248-1776171600-1776174300@www.jccmilwaukee.org
SUMMARY:Tennis Tots
DESCRIPTION:
URL:https://www.jccmilwaukee.org/event/tennis-tots-2/2026-04-14/
LOCATION:Harry & Rose Samson Family JCC\, 6255 North Santa Monica Blvd\, Milwaukee\, WI\, 53217\, United States
CATEGORIES:Class
END:VEVENT
BEGIN:VEVENT
DTSTART;TZID=America/Chicago:20260414T134500
DTEND;TZID=America/Chicago:20260414T143000
DTSTAMP:20260422T183838
CREATED:20260313T171408Z
LAST-MODIFIED:20260313T171408Z
UID:10061216-1776174300-1776177000@www.jccmilwaukee.org
SUMMARY:Tiny Spikers
DESCRIPTION:
URL:https://www.jccmilwaukee.org/event/tiny-spikers-2/2026-04-14/
LOCATION:Harry & Rose Samson Family JCC\, 6255 North Santa Monica Blvd\, Milwaukee\, WI\, 53217\, United States
CATEGORIES:Class
END:VEVENT
BEGIN:VEVENT
DTSTART;TZID=America/Chicago:20260414T140000
DTEND;TZID=America/Chicago:20260414T150000
DTSTAMP:20260422T183838
CREATED:20260308T155107Z
LAST-MODIFIED:20260308T155107Z
UID:10058924-1776175200-1776178800@www.jccmilwaukee.org
SUMMARY:Parkinsons Fitness
DESCRIPTION:
URL:https://www.jccmilwaukee.org/event/parkinsons-fitness/2026-04-14/
LOCATION:Harry & Rose Samson Family JCC\, 6255 North Santa Monica Blvd\, Milwaukee\, WI\, 53217\, United States
CATEGORIES:Class
END:VEVENT
BEGIN:VEVENT
DTSTART;TZID=America/Chicago:20260414T140000
DTEND;TZID=America/Chicago:20260414T153000
DTSTAMP:20260422T183838
CREATED:20251216T181914Z
LAST-MODIFIED:20251216T181914Z
UID:10051986-1776175200-1776180600@www.jccmilwaukee.org
SUMMARY:BYOG Game Open Play
DESCRIPTION:
URL:https://www.jccmilwaukee.org/event/byog-game-open-play/2026-04-14/
LOCATION:Harry & Rose Samson Family JCC\, 6255 North Santa Monica Blvd\, Milwaukee\, WI\, 53217\, United States
CATEGORIES:Class
END:VEVENT
BEGIN:VEVENT
DTSTART;TZID=America/Chicago:20260414T152000
DTEND;TZID=America/Chicago:20260414T155000
DTSTAMP:20260422T183838
CREATED:20260309T131720Z
LAST-MODIFIED:20260309T131720Z
UID:10059332-1776180000-1776181800@www.jccmilwaukee.org
SUMMARY:Soccer Stars
DESCRIPTION:
URL:https://www.jccmilwaukee.org/event/soccer-stars-2/2026-04-14/
LOCATION:Harry & Rose Samson Family JCC\, 6255 North Santa Monica Blvd\, Milwaukee\, WI\, 53217\, United States
CATEGORIES:Class
END:VEVENT
BEGIN:VEVENT
DTSTART;TZID=America/Chicago:20260414T152500
DTEND;TZID=America/Chicago:20260414T155500
DTSTAMP:20260422T183838
CREATED:20260309T131714Z
LAST-MODIFIED:20260309T131714Z
UID:10059280-1776180300-1776182100@www.jccmilwaukee.org
SUMMARY:Gan Ami Pre-School Level 3
DESCRIPTION:
URL:https://www.jccmilwaukee.org/event/gan-ami-pre-school-level-3-5/2026-04-14/
LOCATION:Harry & Rose Samson Family JCC\, 6255 North Santa Monica Blvd\, Milwaukee\, WI\, 53217\, United States
CATEGORIES:Class
END:VEVENT
BEGIN:VEVENT
DTSTART;TZID=America/Chicago:20260414T152500
DTEND;TZID=America/Chicago:20260414T155500
DTSTAMP:20260422T183838
CREATED:20260309T142209Z
LAST-MODIFIED:20260309T142209Z
UID:10059664-1776180300-1776182100@www.jccmilwaukee.org
SUMMARY:Gan Ami Pre-School Level 1
DESCRIPTION:
URL:https://www.jccmilwaukee.org/event/gan-ami-pre-school-level-1-7/2026-04-14/
LOCATION:Harry & Rose Samson Family JCC\, 6255 North Santa Monica Blvd\, Milwaukee\, WI\, 53217\, United States
CATEGORIES:Class
END:VEVENT
BEGIN:VEVENT
DTSTART;TZID=America/Chicago:20260414T152500
DTEND;TZID=America/Chicago:20260414T155500
DTSTAMP:20260422T183838
CREATED:20260320T182704Z
LAST-MODIFIED:20260320T182704Z
UID:10062278-1776180300-1776182100@www.jccmilwaukee.org
SUMMARY:Gan Ami Pre-School Level 2
DESCRIPTION:
URL:https://www.jccmilwaukee.org/event/gan-ami-pre-school-level-2/2026-04-14/
LOCATION:Harry & Rose Samson Family JCC\, 6255 North Santa Monica Blvd\, Milwaukee\, WI\, 53217\, United States
CATEGORIES:Class
END:VEVENT
BEGIN:VEVENT
DTSTART;TZID=America/Chicago:20260414T160000
DTEND;TZID=America/Chicago:20260414T163000
DTSTAMP:20260422T183838
CREATED:20260309T011422Z
LAST-MODIFIED:20260309T011422Z
UID:10059160-1776182400-1776184200@www.jccmilwaukee.org
SUMMARY:Pre-School Level 3
DESCRIPTION:
URL:https://www.jccmilwaukee.org/event/pre-school-level-3-8/2026-04-14/
LOCATION:Harry & Rose Samson Family JCC\, 6255 North Santa Monica Blvd\, Milwaukee\, WI\, 53217\, United States
CATEGORIES:Class
END:VEVENT
BEGIN:VEVENT
DTSTART;TZID=America/Chicago:20260414T160000
DTEND;TZID=America/Chicago:20260414T163000
DTSTAMP:20260422T183838
CREATED:20260309T132745Z
LAST-MODIFIED:20260309T132745Z
UID:10059364-1776182400-1776184200@www.jccmilwaukee.org
SUMMARY:Soccer Stars
DESCRIPTION:
URL:https://www.jccmilwaukee.org/event/soccer-stars-4/2026-04-14/
LOCATION:Harry & Rose Samson Family JCC\, 6255 North Santa Monica Blvd\, Milwaukee\, WI\, 53217\, United States
CATEGORIES:Class
END:VEVENT
BEGIN:VEVENT
DTSTART;TZID=America/Chicago:20260414T160000
DTEND;TZID=America/Chicago:20260414T163000
DTSTAMP:20260422T183838
CREATED:20260311T154715Z
LAST-MODIFIED:20260311T154715Z
UID:10060555-1776182400-1776184200@www.jccmilwaukee.org
SUMMARY:Pre-School Level 2
DESCRIPTION:
URL:https://www.jccmilwaukee.org/event/pre-school-level-2-6/2026-04-14/
LOCATION:Harry & Rose Samson Family JCC\, 6255 North Santa Monica Blvd\, Milwaukee\, WI\, 53217\, United States
CATEGORIES:Class
END:VEVENT
BEGIN:VEVENT
DTSTART;TZID=America/Chicago:20260414T160000
DTEND;TZID=America/Chicago:20260414T163000
DTSTAMP:20260422T183838
CREATED:20260312T234809Z
LAST-MODIFIED:20260312T234809Z
UID:10061081-1776182400-1776184200@www.jccmilwaukee.org
SUMMARY:Pre-School Level 1
DESCRIPTION:
URL:https://www.jccmilwaukee.org/event/pre-school-level-1-5/2026-04-14/
LOCATION:Harry & Rose Samson Family JCC\, 6255 North Santa Monica Blvd\, Milwaukee\, WI\, 53217\, United States
CATEGORIES:Class
END:VEVENT
BEGIN:VEVENT
DTSTART;TZID=America/Chicago:20260414T160000
DTEND;TZID=America/Chicago:20260414T163000
DTSTAMP:20260422T183838
CREATED:20260316T232409Z
LAST-MODIFIED:20260316T232409Z
UID:10061822-1776182400-1776184200@www.jccmilwaukee.org
SUMMARY:Youth Level 3
DESCRIPTION:
URL:https://www.jccmilwaukee.org/event/youth-level-3-8/2026-04-14/
LOCATION:Harry & Rose Samson Family JCC\, 6255 North Santa Monica Blvd\, Milwaukee\, WI\, 53217\, United States
CATEGORIES:Class
END:VEVENT
BEGIN:VEVENT
DTSTART;TZID=America/Chicago:20260414T163000
DTEND;TZID=America/Chicago:20260414T171500
DTSTAMP:20260422T183838
CREATED:20260305T220609Z
LAST-MODIFIED:20260305T220609Z
UID:10058355-1776184200-1776186900@www.jccmilwaukee.org
SUMMARY:Paint Outside the Lines
DESCRIPTION:
URL:https://www.jccmilwaukee.org/event/paint-outside-the-lines-2/2026-04-14/
LOCATION:Harry & Rose Samson Family JCC\, 6255 North Santa Monica Blvd\, Milwaukee\, WI\, 53217\, United States
CATEGORIES:Class
END:VEVENT
BEGIN:VEVENT
DTSTART;TZID=America/Chicago:20260414T163000
DTEND;TZID=America/Chicago:20260414T172000
DTSTAMP:20260422T183838
CREATED:20260307T231307Z
LAST-MODIFIED:20260307T231307Z
UID:10058826-1776184200-1776187200@www.jccmilwaukee.org
SUMMARY:Intermediate Mat and Tower Pilates
DESCRIPTION:
URL:https://www.jccmilwaukee.org/event/intermediate-mat-and-tower-pilates-7/2026-04-14/
LOCATION:Harry & Rose Samson Family JCC\, 6255 North Santa Monica Blvd\, Milwaukee\, WI\, 53217\, United States
CATEGORIES:Class
END:VEVENT
BEGIN:VEVENT
DTSTART;TZID=America/Chicago:20260414T163500
DTEND;TZID=America/Chicago:20260414T170500
DTSTAMP:20260422T183838
CREATED:20260309T132802Z
LAST-MODIFIED:20260309T132802Z
UID:10059504-1776184500-1776186300@www.jccmilwaukee.org
SUMMARY:Youth Level 1
DESCRIPTION:
URL:https://www.jccmilwaukee.org/event/youth-level-1-2/2026-04-14/
LOCATION:Harry & Rose Samson Family JCC\, 6255 North Santa Monica Blvd\, Milwaukee\, WI\, 53217\, United States
CATEGORIES:Class
END:VEVENT
BEGIN:VEVENT
DTSTART;TZID=America/Chicago:20260414T163500
DTEND;TZID=America/Chicago:20260414T170500
DTSTAMP:20260422T183838
CREATED:20260309T151609Z
LAST-MODIFIED:20260309T151609Z
UID:10059864-1776184500-1776186300@www.jccmilwaukee.org
SUMMARY:Pre-School Level 1
DESCRIPTION:
URL:https://www.jccmilwaukee.org/event/pre-school-level-1-9/2026-04-14/
LOCATION:Harry & Rose Samson Family JCC\, 6255 North Santa Monica Blvd\, Milwaukee\, WI\, 53217\, United States
CATEGORIES:Class
END:VEVENT
BEGIN:VEVENT
DTSTART;TZID=America/Chicago:20260414T163500
DTEND;TZID=America/Chicago:20260414T170500
DTSTAMP:20260422T183838
CREATED:20260312T021911Z
LAST-MODIFIED:20260312T021911Z
UID:10060747-1776184500-1776186300@www.jccmilwaukee.org
SUMMARY:Youth Level 2
DESCRIPTION:
URL:https://www.jccmilwaukee.org/event/youth-level-2-7/2026-04-14/
LOCATION:Harry & Rose Samson Family JCC\, 6255 North Santa Monica Blvd\, Milwaukee\, WI\, 53217\, United States
CATEGORIES:Class
END:VEVENT
BEGIN:VEVENT
DTSTART;TZID=America/Chicago:20260414T164500
DTEND;TZID=America/Chicago:20260414T171500
DTSTAMP:20260422T183838
CREATED:20260312T143621Z
LAST-MODIFIED:20260312T143621Z
UID:10060887-1776185100-1776186900@www.jccmilwaukee.org
SUMMARY:Soccer Stars
DESCRIPTION:
URL:https://www.jccmilwaukee.org/event/soccer-stars/2026-04-14/
LOCATION:Harry & Rose Samson Family JCC\, 6255 North Santa Monica Blvd\, Milwaukee\, WI\, 53217\, United States
CATEGORIES:Class
END:VEVENT
BEGIN:VEVENT
DTSTART;TZID=America/Chicago:20260414T170000
DTEND;TZID=America/Chicago:20260414T180000
DTSTAMP:20260422T183839
CREATED:20260309T194113Z
LAST-MODIFIED:20260309T194113Z
UID:10060056-1776186000-1776189600@www.jccmilwaukee.org
SUMMARY:Kids Competitive Swim Prep
DESCRIPTION:
URL:https://www.jccmilwaukee.org/event/kids-competitive-swim-prep/2026-04-14/
LOCATION:Harry & Rose Samson Family JCC\, 6255 North Santa Monica Blvd\, Milwaukee\, WI\, 53217\, United States
CATEGORIES:Class
END:VEVENT
END:VCALENDAR