BEGIN:VCALENDAR
VERSION:2.0
PRODID:-//Harry &amp; Rose Samson Family Jewish Community Center - ECPv6.6.4.2//NONSGML v1.0//EN
CALSCALE:GREGORIAN
METHOD:PUBLISH
X-ORIGINAL-URL:https://www.jccmilwaukee.org
X-WR-CALDESC:Events for Harry &amp; Rose Samson Family Jewish Community Center
REFRESH-INTERVAL;VALUE=DURATION:PT1H
X-Robots-Tag:noindex
X-PUBLISHED-TTL:PT1H
BEGIN:VTIMEZONE
TZID:America/Chicago
BEGIN:DAYLIGHT
TZOFFSETFROM:-0600
TZOFFSETTO:-0500
TZNAME:CDT
DTSTART:20260308T080000
END:DAYLIGHT
BEGIN:STANDARD
TZOFFSETFROM:-0500
TZOFFSETTO:-0600
TZNAME:CST
DTSTART:20261101T070000
END:STANDARD
END:VTIMEZONE
BEGIN:VEVENT
DTSTART;TZID=America/Chicago:20260401T000000
DTEND;TZID=America/Chicago:20260430T235959
DTSTAMP:20260420T151147
CREATED:20251125T222250Z
LAST-MODIFIED:20251125T222250Z
UID:10049828-1775001600-1777593599@www.jccmilwaukee.org
SUMMARY:April Pickleball Pass
DESCRIPTION:
URL:https://www.jccmilwaukee.org/event/april-pickleball-pass/
LOCATION:Harry & Rose Samson Family JCC\, 6255 North Santa Monica Blvd\, Milwaukee\, WI\, 53217\, United States
CATEGORIES:Class
END:VEVENT
BEGIN:VEVENT
DTSTART;TZID=America/Chicago:20260401T000000
DTEND;TZID=America/Chicago:20260430T235959
DTSTAMP:20260420T151147
CREATED:20260406T205617Z
LAST-MODIFIED:20260406T205617Z
UID:10063860-1775001600-1777593599@www.jccmilwaukee.org
SUMMARY:April Dance Pass
DESCRIPTION:
URL:https://www.jccmilwaukee.org/event/april-dance-pass/
LOCATION:Harry & Rose Samson Family JCC\, 6255 North Santa Monica Blvd\, Milwaukee\, WI\, 53217\, United States
CATEGORIES:Class
END:VEVENT
BEGIN:VEVENT
DTSTART;TZID=America/Chicago:20260421T073000
DTEND;TZID=America/Chicago:20260421T083000
DTSTAMP:20260420T151147
CREATED:20260309T133834Z
LAST-MODIFIED:20260309T133834Z
UID:10059651-1776756600-1776760200@www.jccmilwaukee.org
SUMMARY:April Masters Swim Team
DESCRIPTION:
URL:https://www.jccmilwaukee.org/event/april-masters-swim-team/2026-04-21/
LOCATION:Harry & Rose Samson Family JCC\, 6255 North Santa Monica Blvd\, Milwaukee\, WI\, 53217\, United States
CATEGORIES:Class
END:VEVENT
BEGIN:VEVENT
DTSTART;TZID=America/Chicago:20260421T080000
DTEND;TZID=America/Chicago:20260421T110000
DTSTAMP:20260420T151147
CREATED:20260417T222209Z
LAST-MODIFIED:20260417T222209Z
UID:10064714-1776758400-1776769200@www.jccmilwaukee.org
SUMMARY:Tuesday\, April 21
DESCRIPTION:
URL:https://www.jccmilwaukee.org/event/tuesday-april-21/
LOCATION:Harry & Rose Samson Family JCC\, 6255 North Santa Monica Blvd\, Milwaukee\, WI\, 53217\, United States
CATEGORIES:Class
END:VEVENT
BEGIN:VEVENT
DTSTART;TZID=America/Chicago:20260421T081500
DTEND;TZID=America/Chicago:20260421T090500
DTSTAMP:20260420T151147
CREATED:20260306T153310Z
LAST-MODIFIED:20260306T153310Z
UID:10058414-1776759300-1776762300@www.jccmilwaukee.org
SUMMARY:Intermediate Contemporary Reformer
DESCRIPTION:
URL:https://www.jccmilwaukee.org/event/intermediate-contemporary-reformer-2/2026-04-21/
LOCATION:Harry & Rose Samson Family JCC\, 6255 North Santa Monica Blvd\, Milwaukee\, WI\, 53217\, United States
CATEGORIES:Class
END:VEVENT
BEGIN:VEVENT
DTSTART;TZID=America/Chicago:20260421T091500
DTEND;TZID=America/Chicago:20260421T100500
DTSTAMP:20260420T151147
CREATED:20260306T163805Z
LAST-MODIFIED:20260306T163805Z
UID:10058526-1776762900-1776765900@www.jccmilwaukee.org
SUMMARY:Intro to Classical Reformer
DESCRIPTION:
URL:https://www.jccmilwaukee.org/event/intro-to-classical-reformer/2026-04-21/
LOCATION:Harry & Rose Samson Family JCC\, 6255 North Santa Monica Blvd\, Milwaukee\, WI\, 53217\, United States
CATEGORIES:Class
END:VEVENT
BEGIN:VEVENT
DTSTART;TZID=America/Chicago:20260421T100000
DTEND;TZID=America/Chicago:20260421T113000
DTSTAMP:20260420T151147
CREATED:20260324T160127Z
LAST-MODIFIED:20260324T160127Z
UID:10062757-1776765600-1776771000@www.jccmilwaukee.org
SUMMARY:Chaverim: Volunteer at MDM
DESCRIPTION:
URL:https://www.jccmilwaukee.org/event/chaverim-volunteer-at-mdm/
LOCATION:Harry & Rose Samson Family JCC\, 6255 North Santa Monica Blvd\, Milwaukee\, WI\, 53217\, United States
CATEGORIES:Class
END:VEVENT
BEGIN:VEVENT
DTSTART;TZID=America/Chicago:20260421T101500
DTEND;TZID=America/Chicago:20260421T110500
DTSTAMP:20260420T151147
CREATED:20260309T142227Z
LAST-MODIFIED:20260309T142227Z
UID:10059689-1776766500-1776769500@www.jccmilwaukee.org
SUMMARY:Intermediate Classical Reformer
DESCRIPTION:
URL:https://www.jccmilwaukee.org/event/intermediate-classical-reformer-13/2026-04-21/
LOCATION:Harry & Rose Samson Family JCC\, 6255 North Santa Monica Blvd\, Milwaukee\, WI\, 53217\, United States
CATEGORIES:Class
END:VEVENT
BEGIN:VEVENT
DTSTART;TZID=America/Chicago:20260421T110000
DTEND;TZID=America/Chicago:20260421T113000
DTSTAMP:20260420T151147
CREATED:20260106T214713Z
LAST-MODIFIED:20260106T214713Z
UID:10055136-1776769200-1776771000@www.jccmilwaukee.org
SUMMARY:Open Play
DESCRIPTION:
URL:https://www.jccmilwaukee.org/event/open-play/2026-04-21/
LOCATION:Harry & Rose Samson Family JCC\, 6255 North Santa Monica Blvd\, Milwaukee\, WI\, 53217\, United States
CATEGORIES:Class
END:VEVENT
BEGIN:VEVENT
DTSTART;TZID=America/Chicago:20260421T110000
DTEND;TZID=America/Chicago:20260421T113000
DTSTAMP:20260420T151147
CREATED:20260106T214715Z
LAST-MODIFIED:20260106T214715Z
UID:10055146-1776769200-1776771000@www.jccmilwaukee.org
SUMMARY:Open Play
DESCRIPTION:
URL:https://www.jccmilwaukee.org/event/open-play-2/2026-04-21/
LOCATION:Harry & Rose Samson Family JCC\, 6255 North Santa Monica Blvd\, Milwaukee\, WI\, 53217\, United States
CATEGORIES:Class
END:VEVENT
BEGIN:VEVENT
DTSTART;TZID=America/Chicago:20260421T120000
DTEND;TZID=America/Chicago:20260421T130000
DTSTAMP:20260420T151147
CREATED:20260304T154808Z
LAST-MODIFIED:20260304T154808Z
UID:10058288-1776772800-1776776400@www.jccmilwaukee.org
SUMMARY:Midday Yoga Explorations: Power\, Flow + Recovery
DESCRIPTION:
URL:https://www.jccmilwaukee.org/event/midday-yoga-explorations-power-flow-recovery/2026-04-21/
LOCATION:Harry & Rose Samson Family JCC\, 6255 North Santa Monica Blvd\, Milwaukee\, WI\, 53217\, United States
CATEGORIES:Class
END:VEVENT
BEGIN:VEVENT
DTSTART;TZID=America/Chicago:20260421T130000
DTEND;TZID=America/Chicago:20260421T134500
DTSTAMP:20260420T151147
CREATED:20260309T130629Z
LAST-MODIFIED:20260309T130629Z
UID:10059249-1776776400-1776779100@www.jccmilwaukee.org
SUMMARY:Tennis Tots
DESCRIPTION:
URL:https://www.jccmilwaukee.org/event/tennis-tots-2/2026-04-21/
LOCATION:Harry & Rose Samson Family JCC\, 6255 North Santa Monica Blvd\, Milwaukee\, WI\, 53217\, United States
CATEGORIES:Class
END:VEVENT
BEGIN:VEVENT
DTSTART;TZID=America/Chicago:20260421T134500
DTEND;TZID=America/Chicago:20260421T143000
DTSTAMP:20260420T151147
CREATED:20260313T171408Z
LAST-MODIFIED:20260313T171408Z
UID:10061217-1776779100-1776781800@www.jccmilwaukee.org
SUMMARY:Tiny Spikers
DESCRIPTION:
URL:https://www.jccmilwaukee.org/event/tiny-spikers-2/2026-04-21/
LOCATION:Harry & Rose Samson Family JCC\, 6255 North Santa Monica Blvd\, Milwaukee\, WI\, 53217\, United States
CATEGORIES:Class
END:VEVENT
BEGIN:VEVENT
DTSTART;TZID=America/Chicago:20260421T140000
DTEND;TZID=America/Chicago:20260421T150000
DTSTAMP:20260420T151147
CREATED:20260308T155107Z
LAST-MODIFIED:20260308T155107Z
UID:10058925-1776780000-1776783600@www.jccmilwaukee.org
SUMMARY:Parkinsons Fitness
DESCRIPTION:
URL:https://www.jccmilwaukee.org/event/parkinsons-fitness/2026-04-21/
LOCATION:Harry & Rose Samson Family JCC\, 6255 North Santa Monica Blvd\, Milwaukee\, WI\, 53217\, United States
CATEGORIES:Class
END:VEVENT
BEGIN:VEVENT
DTSTART;TZID=America/Chicago:20260421T140000
DTEND;TZID=America/Chicago:20260421T153000
DTSTAMP:20260420T151147
CREATED:20251216T181914Z
LAST-MODIFIED:20251216T181914Z
UID:10051987-1776780000-1776785400@www.jccmilwaukee.org
SUMMARY:BYOG Game Open Play
DESCRIPTION:
URL:https://www.jccmilwaukee.org/event/byog-game-open-play/2026-04-21/
LOCATION:Harry & Rose Samson Family JCC\, 6255 North Santa Monica Blvd\, Milwaukee\, WI\, 53217\, United States
CATEGORIES:Class
END:VEVENT
BEGIN:VEVENT
DTSTART;TZID=America/Chicago:20260421T152000
DTEND;TZID=America/Chicago:20260421T155000
DTSTAMP:20260420T151147
CREATED:20260309T131720Z
LAST-MODIFIED:20260309T131720Z
UID:10059333-1776784800-1776786600@www.jccmilwaukee.org
SUMMARY:Soccer Stars
DESCRIPTION:
URL:https://www.jccmilwaukee.org/event/soccer-stars-2/2026-04-21/
LOCATION:Harry & Rose Samson Family JCC\, 6255 North Santa Monica Blvd\, Milwaukee\, WI\, 53217\, United States
CATEGORIES:Class
END:VEVENT
BEGIN:VEVENT
DTSTART;TZID=America/Chicago:20260421T152500
DTEND;TZID=America/Chicago:20260421T155500
DTSTAMP:20260420T151147
CREATED:20260309T131714Z
LAST-MODIFIED:20260309T131714Z
UID:10059281-1776785100-1776786900@www.jccmilwaukee.org
SUMMARY:Gan Ami Pre-School Level 3
DESCRIPTION:
URL:https://www.jccmilwaukee.org/event/gan-ami-pre-school-level-3-5/2026-04-21/
LOCATION:Harry & Rose Samson Family JCC\, 6255 North Santa Monica Blvd\, Milwaukee\, WI\, 53217\, United States
CATEGORIES:Class
END:VEVENT
BEGIN:VEVENT
DTSTART;TZID=America/Chicago:20260421T152500
DTEND;TZID=America/Chicago:20260421T155500
DTSTAMP:20260420T151147
CREATED:20260309T142209Z
LAST-MODIFIED:20260309T142209Z
UID:10059665-1776785100-1776786900@www.jccmilwaukee.org
SUMMARY:Gan Ami Pre-School Level 1
DESCRIPTION:
URL:https://www.jccmilwaukee.org/event/gan-ami-pre-school-level-1-7/2026-04-21/
LOCATION:Harry & Rose Samson Family JCC\, 6255 North Santa Monica Blvd\, Milwaukee\, WI\, 53217\, United States
CATEGORIES:Class
END:VEVENT
BEGIN:VEVENT
DTSTART;TZID=America/Chicago:20260421T152500
DTEND;TZID=America/Chicago:20260421T155500
DTSTAMP:20260420T151147
CREATED:20260320T182704Z
LAST-MODIFIED:20260320T182704Z
UID:10062279-1776785100-1776786900@www.jccmilwaukee.org
SUMMARY:Gan Ami Pre-School Level 2
DESCRIPTION:
URL:https://www.jccmilwaukee.org/event/gan-ami-pre-school-level-2/2026-04-21/
LOCATION:Harry & Rose Samson Family JCC\, 6255 North Santa Monica Blvd\, Milwaukee\, WI\, 53217\, United States
CATEGORIES:Class
END:VEVENT
BEGIN:VEVENT
DTSTART;TZID=America/Chicago:20260421T160000
DTEND;TZID=America/Chicago:20260421T163000
DTSTAMP:20260420T151147
CREATED:20260309T011422Z
LAST-MODIFIED:20260309T011422Z
UID:10059161-1776787200-1776789000@www.jccmilwaukee.org
SUMMARY:Pre-School Level 3
DESCRIPTION:
URL:https://www.jccmilwaukee.org/event/pre-school-level-3-8/2026-04-21/
LOCATION:Harry & Rose Samson Family JCC\, 6255 North Santa Monica Blvd\, Milwaukee\, WI\, 53217\, United States
CATEGORIES:Class
END:VEVENT
BEGIN:VEVENT
DTSTART;TZID=America/Chicago:20260421T160000
DTEND;TZID=America/Chicago:20260421T163000
DTSTAMP:20260420T151147
CREATED:20260309T132745Z
LAST-MODIFIED:20260309T132745Z
UID:10059365-1776787200-1776789000@www.jccmilwaukee.org
SUMMARY:Soccer Stars
DESCRIPTION:
URL:https://www.jccmilwaukee.org/event/soccer-stars-4/2026-04-21/
LOCATION:Harry & Rose Samson Family JCC\, 6255 North Santa Monica Blvd\, Milwaukee\, WI\, 53217\, United States
CATEGORIES:Class
END:VEVENT
BEGIN:VEVENT
DTSTART;TZID=America/Chicago:20260421T160000
DTEND;TZID=America/Chicago:20260421T163000
DTSTAMP:20260420T151147
CREATED:20260311T154715Z
LAST-MODIFIED:20260311T154715Z
UID:10060556-1776787200-1776789000@www.jccmilwaukee.org
SUMMARY:Pre-School Level 2
DESCRIPTION:
URL:https://www.jccmilwaukee.org/event/pre-school-level-2-6/2026-04-21/
LOCATION:Harry & Rose Samson Family JCC\, 6255 North Santa Monica Blvd\, Milwaukee\, WI\, 53217\, United States
CATEGORIES:Class
END:VEVENT
BEGIN:VEVENT
DTSTART;TZID=America/Chicago:20260421T160000
DTEND;TZID=America/Chicago:20260421T163000
DTSTAMP:20260420T151147
CREATED:20260312T234809Z
LAST-MODIFIED:20260312T234809Z
UID:10061082-1776787200-1776789000@www.jccmilwaukee.org
SUMMARY:Pre-School Level 1
DESCRIPTION:
URL:https://www.jccmilwaukee.org/event/pre-school-level-1-5/2026-04-21/
LOCATION:Harry & Rose Samson Family JCC\, 6255 North Santa Monica Blvd\, Milwaukee\, WI\, 53217\, United States
CATEGORIES:Class
END:VEVENT
BEGIN:VEVENT
DTSTART;TZID=America/Chicago:20260421T160000
DTEND;TZID=America/Chicago:20260421T163000
DTSTAMP:20260420T151148
CREATED:20260316T232409Z
LAST-MODIFIED:20260316T232409Z
UID:10061823-1776787200-1776789000@www.jccmilwaukee.org
SUMMARY:Youth Level 3
DESCRIPTION:
URL:https://www.jccmilwaukee.org/event/youth-level-3-8/2026-04-21/
LOCATION:Harry & Rose Samson Family JCC\, 6255 North Santa Monica Blvd\, Milwaukee\, WI\, 53217\, United States
CATEGORIES:Class
END:VEVENT
BEGIN:VEVENT
DTSTART;TZID=America/Chicago:20260421T163000
DTEND;TZID=America/Chicago:20260421T171500
DTSTAMP:20260420T151148
CREATED:20260305T220609Z
LAST-MODIFIED:20260305T220609Z
UID:10058356-1776789000-1776791700@www.jccmilwaukee.org
SUMMARY:Paint Outside the Lines
DESCRIPTION:
URL:https://www.jccmilwaukee.org/event/paint-outside-the-lines-2/2026-04-21/
LOCATION:Harry & Rose Samson Family JCC\, 6255 North Santa Monica Blvd\, Milwaukee\, WI\, 53217\, United States
CATEGORIES:Class
END:VEVENT
BEGIN:VEVENT
DTSTART;TZID=America/Chicago:20260421T163000
DTEND;TZID=America/Chicago:20260421T172000
DTSTAMP:20260420T151148
CREATED:20260307T231307Z
LAST-MODIFIED:20260307T231307Z
UID:10058827-1776789000-1776792000@www.jccmilwaukee.org
SUMMARY:Intermediate Mat and Tower Pilates
DESCRIPTION:
URL:https://www.jccmilwaukee.org/event/intermediate-mat-and-tower-pilates-7/2026-04-21/
LOCATION:Harry & Rose Samson Family JCC\, 6255 North Santa Monica Blvd\, Milwaukee\, WI\, 53217\, United States
CATEGORIES:Class
END:VEVENT
BEGIN:VEVENT
DTSTART;TZID=America/Chicago:20260421T163500
DTEND;TZID=America/Chicago:20260421T170500
DTSTAMP:20260420T151148
CREATED:20260309T132802Z
LAST-MODIFIED:20260309T132802Z
UID:10059505-1776789300-1776791100@www.jccmilwaukee.org
SUMMARY:Youth Level 1
DESCRIPTION:
URL:https://www.jccmilwaukee.org/event/youth-level-1-2/2026-04-21/
LOCATION:Harry & Rose Samson Family JCC\, 6255 North Santa Monica Blvd\, Milwaukee\, WI\, 53217\, United States
CATEGORIES:Class
END:VEVENT
BEGIN:VEVENT
DTSTART;TZID=America/Chicago:20260421T163500
DTEND;TZID=America/Chicago:20260421T170500
DTSTAMP:20260420T151148
CREATED:20260309T151609Z
LAST-MODIFIED:20260309T151609Z
UID:10059865-1776789300-1776791100@www.jccmilwaukee.org
SUMMARY:Pre-School Level 1
DESCRIPTION:
URL:https://www.jccmilwaukee.org/event/pre-school-level-1-9/2026-04-21/
LOCATION:Harry & Rose Samson Family JCC\, 6255 North Santa Monica Blvd\, Milwaukee\, WI\, 53217\, United States
CATEGORIES:Class
END:VEVENT
BEGIN:VEVENT
DTSTART;TZID=America/Chicago:20260421T163500
DTEND;TZID=America/Chicago:20260421T170500
DTSTAMP:20260420T151148
CREATED:20260312T021911Z
LAST-MODIFIED:20260312T021911Z
UID:10060748-1776789300-1776791100@www.jccmilwaukee.org
SUMMARY:Youth Level 2
DESCRIPTION:
URL:https://www.jccmilwaukee.org/event/youth-level-2-7/2026-04-21/
LOCATION:Harry & Rose Samson Family JCC\, 6255 North Santa Monica Blvd\, Milwaukee\, WI\, 53217\, United States
CATEGORIES:Class
END:VEVENT
BEGIN:VEVENT
DTSTART;TZID=America/Chicago:20260421T164500
DTEND;TZID=America/Chicago:20260421T171500
DTSTAMP:20260420T151148
CREATED:20260312T143621Z
LAST-MODIFIED:20260312T143621Z
UID:10060888-1776789900-1776791700@www.jccmilwaukee.org
SUMMARY:Soccer Stars
DESCRIPTION:
URL:https://www.jccmilwaukee.org/event/soccer-stars/2026-04-21/
LOCATION:Harry & Rose Samson Family JCC\, 6255 North Santa Monica Blvd\, Milwaukee\, WI\, 53217\, United States
CATEGORIES:Class
END:VEVENT
END:VCALENDAR