BEGIN:VCALENDAR
VERSION:2.0
PRODID:-//Harry &amp; Rose Samson Family Jewish Community Center - ECPv6.6.4.2//NONSGML v1.0//EN
CALSCALE:GREGORIAN
METHOD:PUBLISH
X-WR-CALNAME:Harry &amp; Rose Samson Family Jewish Community Center
X-ORIGINAL-URL:https://www.jccmilwaukee.org
X-WR-CALDESC:Events for Harry &amp; Rose Samson Family Jewish Community Center
REFRESH-INTERVAL;VALUE=DURATION:PT1H
X-Robots-Tag:noindex
X-PUBLISHED-TTL:PT1H
BEGIN:VTIMEZONE
TZID:America/Chicago
BEGIN:DAYLIGHT
TZOFFSETFROM:-0600
TZOFFSETTO:-0500
TZNAME:CDT
DTSTART:20260308T080000
END:DAYLIGHT
BEGIN:STANDARD
TZOFFSETFROM:-0500
TZOFFSETTO:-0600
TZNAME:CST
DTSTART:20261101T070000
END:STANDARD
END:VTIMEZONE
BEGIN:VEVENT
DTSTART;TZID=America/Chicago:20260401T000000
DTEND;TZID=America/Chicago:20260430T235959
DTSTAMP:20260420T181451
CREATED:20251125T222250Z
LAST-MODIFIED:20251125T222250Z
UID:10049828-1775001600-1777593599@www.jccmilwaukee.org
SUMMARY:April Pickleball Pass
DESCRIPTION:
URL:https://www.jccmilwaukee.org/event/april-pickleball-pass/
LOCATION:Harry & Rose Samson Family JCC\, 6255 North Santa Monica Blvd\, Milwaukee\, WI\, 53217\, United States
CATEGORIES:Class
END:VEVENT
BEGIN:VEVENT
DTSTART;TZID=America/Chicago:20260401T000000
DTEND;TZID=America/Chicago:20260430T235959
DTSTAMP:20260420T181451
CREATED:20260406T205617Z
LAST-MODIFIED:20260406T205617Z
UID:10063860-1775001600-1777593599@www.jccmilwaukee.org
SUMMARY:April Dance Pass
DESCRIPTION:
URL:https://www.jccmilwaukee.org/event/april-dance-pass/
LOCATION:Harry & Rose Samson Family JCC\, 6255 North Santa Monica Blvd\, Milwaukee\, WI\, 53217\, United States
CATEGORIES:Class
END:VEVENT
BEGIN:VEVENT
DTSTART;TZID=America/Chicago:20260423T041500
DTEND;TZID=America/Chicago:20260423T170000
DTSTAMP:20260420T181451
CREATED:20260305T221713Z
LAST-MODIFIED:20260305T221713Z
UID:10058380-1776917700-1776963600@www.jccmilwaukee.org
SUMMARY:ArtAble Explorers
DESCRIPTION:
URL:https://www.jccmilwaukee.org/event/artable-explorers/2026-04-23/
LOCATION:Harry & Rose Samson Family JCC\, 6255 North Santa Monica Blvd\, Milwaukee\, WI\, 53217\, United States
CATEGORIES:Class
END:VEVENT
BEGIN:VEVENT
DTSTART;TZID=America/Chicago:20260423T073000
DTEND;TZID=America/Chicago:20260423T083000
DTSTAMP:20260420T181451
CREATED:20260309T133834Z
LAST-MODIFIED:20260309T133834Z
UID:10059652-1776929400-1776933000@www.jccmilwaukee.org
SUMMARY:April Masters Swim Team
DESCRIPTION:
URL:https://www.jccmilwaukee.org/event/april-masters-swim-team/2026-04-23/
LOCATION:Harry & Rose Samson Family JCC\, 6255 North Santa Monica Blvd\, Milwaukee\, WI\, 53217\, United States
CATEGORIES:Class
END:VEVENT
BEGIN:VEVENT
DTSTART;TZID=America/Chicago:20260423T080000
DTEND;TZID=America/Chicago:20260423T090000
DTSTAMP:20260420T181451
CREATED:20260401T180517Z
LAST-MODIFIED:20260401T180517Z
UID:10063575-1776931200-1776934800@www.jccmilwaukee.org
SUMMARY:HYROX
DESCRIPTION:
URL:https://www.jccmilwaukee.org/event/hyrox-4/2026-04-23/
LOCATION:Harry & Rose Samson Family JCC\, 6255 North Santa Monica Blvd\, Milwaukee\, WI\, 53217\, United States
CATEGORIES:Class
END:VEVENT
BEGIN:VEVENT
DTSTART;TZID=America/Chicago:20260423T080000
DTEND;TZID=America/Chicago:20260423T110000
DTSTAMP:20260420T181451
CREATED:20260417T222214Z
LAST-MODIFIED:20260417T222214Z
UID:10064717-1776931200-1776942000@www.jccmilwaukee.org
SUMMARY:Thursday\, April 23
DESCRIPTION:
URL:https://www.jccmilwaukee.org/event/thursday-april-23/
LOCATION:Harry & Rose Samson Family JCC\, 6255 North Santa Monica Blvd\, Milwaukee\, WI\, 53217\, United States
CATEGORIES:Class
END:VEVENT
BEGIN:VEVENT
DTSTART;TZID=America/Chicago:20260423T081500
DTEND;TZID=America/Chicago:20260423T090500
DTSTAMP:20260420T181451
CREATED:20260306T154408Z
LAST-MODIFIED:20260306T154408Z
UID:10058422-1776932100-1776935100@www.jccmilwaukee.org
SUMMARY:Intermediate Contemporary Reformer
DESCRIPTION:
URL:https://www.jccmilwaukee.org/event/intermediate-contemporary-reformer-4/2026-04-23/
LOCATION:Harry & Rose Samson Family JCC\, 6255 North Santa Monica Blvd\, Milwaukee\, WI\, 53217\, United States
CATEGORIES:Class
END:VEVENT
BEGIN:VEVENT
DTSTART;TZID=America/Chicago:20260423T091500
DTEND;TZID=America/Chicago:20260423T100500
DTSTAMP:20260420T181451
CREATED:20260306T111708Z
LAST-MODIFIED:20260306T111708Z
UID:10058388-1776935700-1776938700@www.jccmilwaukee.org
SUMMARY:Intermediate Classical Reformer
DESCRIPTION:
URL:https://www.jccmilwaukee.org/event/intermediate-classical-reformer-2/2026-04-23/
LOCATION:Harry & Rose Samson Family JCC\, 6255 North Santa Monica Blvd\, Milwaukee\, WI\, 53217\, United States
CATEGORIES:Class
END:VEVENT
BEGIN:VEVENT
DTSTART;TZID=America/Chicago:20260423T093000
DTEND;TZID=America/Chicago:20260423T100000
DTSTAMP:20260420T181451
CREATED:20260309T134910Z
LAST-MODIFIED:20260309T134910Z
UID:10059657-1776936600-1776938400@www.jccmilwaukee.org
SUMMARY:Mini Ballers
DESCRIPTION:
URL:https://www.jccmilwaukee.org/event/mini-ballers/2026-04-23/
LOCATION:Harry & Rose Samson Family JCC\, 6255 North Santa Monica Blvd\, Milwaukee\, WI\, 53217\, United States
CATEGORIES:Class
END:VEVENT
BEGIN:VEVENT
DTSTART;TZID=America/Chicago:20260423T130000
DTEND;TZID=America/Chicago:20260423T134500
DTSTAMP:20260420T181451
CREATED:20260303T181912Z
LAST-MODIFIED:20260303T181912Z
UID:10058066-1776949200-1776951900@www.jccmilwaukee.org
SUMMARY:Puppetry Making & Creative Play
DESCRIPTION:
URL:https://www.jccmilwaukee.org/event/puppetry-making-creative-play/2026-04-23/
LOCATION:Harry & Rose Samson Family JCC\, 6255 North Santa Monica Blvd\, Milwaukee\, WI\, 53217\, United States
CATEGORIES:Class
END:VEVENT
BEGIN:VEVENT
DTSTART;TZID=America/Chicago:20260423T134500
DTEND;TZID=America/Chicago:20260423T143000
DTSTAMP:20260420T181451
CREATED:20260309T131724Z
LAST-MODIFIED:20260309T131724Z
UID:10059349-1776951900-1776954600@www.jccmilwaukee.org
SUMMARY:Mini Golf Madness
DESCRIPTION:
URL:https://www.jccmilwaukee.org/event/mini-golf-madness/2026-04-23/
LOCATION:Harry & Rose Samson Family JCC\, 6255 North Santa Monica Blvd\, Milwaukee\, WI\, 53217\, United States
CATEGORIES:Class
END:VEVENT
BEGIN:VEVENT
DTSTART;TZID=America/Chicago:20260423T140000
DTEND;TZID=America/Chicago:20260423T150000
DTSTAMP:20260420T181451
CREATED:20260308T162308Z
LAST-MODIFIED:20260308T162308Z
UID:10058969-1776952800-1776956400@www.jccmilwaukee.org
SUMMARY:Parkinsons Fitness
DESCRIPTION:
URL:https://www.jccmilwaukee.org/event/parkinsons-fitness-2/2026-04-23/
LOCATION:Harry & Rose Samson Family JCC\, 6255 North Santa Monica Blvd\, Milwaukee\, WI\, 53217\, United States
CATEGORIES:Class
END:VEVENT
BEGIN:VEVENT
DTSTART;TZID=America/Chicago:20260423T152000
DTEND;TZID=America/Chicago:20260423T155000
DTSTAMP:20260420T181451
CREATED:20260416T182513Z
LAST-MODIFIED:20260416T182513Z
UID:10064695-1776957600-1776959400@www.jccmilwaukee.org
SUMMARY:Laser Tag
DESCRIPTION:
URL:https://www.jccmilwaukee.org/event/laser-tag-4/2026-04-23/
LOCATION:Harry & Rose Samson Family JCC\, 6255 North Santa Monica Blvd\, Milwaukee\, WI\, 53217\, United States
CATEGORIES:Class
END:VEVENT
BEGIN:VEVENT
DTSTART;TZID=America/Chicago:20260423T152500
DTEND;TZID=America/Chicago:20260423T155500
DTSTAMP:20260420T181451
CREATED:20260309T131719Z
LAST-MODIFIED:20260309T131719Z
UID:10059325-1776957900-1776959700@www.jccmilwaukee.org
SUMMARY:Gan Ami Pre-School Level 3
DESCRIPTION:
URL:https://www.jccmilwaukee.org/event/gan-ami-pre-school-level-3-6/2026-04-23/
LOCATION:Harry & Rose Samson Family JCC\, 6255 North Santa Monica Blvd\, Milwaukee\, WI\, 53217\, United States
CATEGORIES:Class
END:VEVENT
BEGIN:VEVENT
DTSTART;TZID=America/Chicago:20260423T152500
DTEND;TZID=America/Chicago:20260423T155500
DTSTAMP:20260420T181451
CREATED:20260309T133825Z
LAST-MODIFIED:20260309T133825Z
UID:10059601-1776957900-1776959700@www.jccmilwaukee.org
SUMMARY:Gan Ami Pre-School Level 2
DESCRIPTION:
URL:https://www.jccmilwaukee.org/event/gan-ami-pre-school-level-2-9/2026-04-23/
LOCATION:Harry & Rose Samson Family JCC\, 6255 North Santa Monica Blvd\, Milwaukee\, WI\, 53217\, United States
CATEGORIES:Class
END:VEVENT
BEGIN:VEVENT
DTSTART;TZID=America/Chicago:20260423T152500
DTEND;TZID=America/Chicago:20260423T155500
DTSTAMP:20260420T181451
CREATED:20260310T024714Z
LAST-MODIFIED:20260310T024714Z
UID:10060197-1776957900-1776959700@www.jccmilwaukee.org
SUMMARY:Gan Ami Pre-School Level 1
DESCRIPTION:
URL:https://www.jccmilwaukee.org/event/gan-ami-pre-school-level-1-8/2026-04-23/
LOCATION:Harry & Rose Samson Family JCC\, 6255 North Santa Monica Blvd\, Milwaukee\, WI\, 53217\, United States
CATEGORIES:Class
END:VEVENT
BEGIN:VEVENT
DTSTART;TZID=America/Chicago:20260423T160000
DTEND;TZID=America/Chicago:20260423T163000
DTSTAMP:20260420T181451
CREATED:20260309T011429Z
LAST-MODIFIED:20260309T011429Z
UID:10059193-1776960000-1776961800@www.jccmilwaukee.org
SUMMARY:Pre-School Level 3
DESCRIPTION:
URL:https://www.jccmilwaukee.org/event/pre-school-level-3-15/2026-04-23/
LOCATION:Harry & Rose Samson Family JCC\, 6255 North Santa Monica Blvd\, Milwaukee\, WI\, 53217\, United States
CATEGORIES:Class
END:VEVENT
BEGIN:VEVENT
DTSTART;TZID=America/Chicago:20260423T160000
DTEND;TZID=America/Chicago:20260423T163000
DTSTAMP:20260420T181451
CREATED:20260309T131712Z
LAST-MODIFIED:20260309T131712Z
UID:10059273-1776960000-1776961800@www.jccmilwaukee.org
SUMMARY:Laser Tag
DESCRIPTION:
URL:https://www.jccmilwaukee.org/event/laser-tag-3/2026-04-23/
LOCATION:Harry & Rose Samson Family JCC\, 6255 North Santa Monica Blvd\, Milwaukee\, WI\, 53217\, United States
CATEGORIES:Class
END:VEVENT
BEGIN:VEVENT
DTSTART;TZID=America/Chicago:20260423T160000
DTEND;TZID=America/Chicago:20260423T163000
DTSTAMP:20260420T181451
CREATED:20260309T153812Z
LAST-MODIFIED:20260309T153812Z
UID:10059873-1776960000-1776961800@www.jccmilwaukee.org
SUMMARY:Pre-School Level 2
DESCRIPTION:
URL:https://www.jccmilwaukee.org/event/pre-school-level-2-7/2026-04-23/
LOCATION:Harry & Rose Samson Family JCC\, 6255 North Santa Monica Blvd\, Milwaukee\, WI\, 53217\, United States
CATEGORIES:Class
END:VEVENT
BEGIN:VEVENT
DTSTART;TZID=America/Chicago:20260423T160000
DTEND;TZID=America/Chicago:20260423T163000
DTSTAMP:20260420T181451
CREATED:20260318T192207Z
LAST-MODIFIED:20260318T192207Z
UID:10062002-1776960000-1776961800@www.jccmilwaukee.org
SUMMARY:Pre-School Level 1
DESCRIPTION:
URL:https://www.jccmilwaukee.org/event/pre-school-level-1-18/2026-04-23/
LOCATION:Harry & Rose Samson Family JCC\, 6255 North Santa Monica Blvd\, Milwaukee\, WI\, 53217\, United States
CATEGORIES:Class
END:VEVENT
BEGIN:VEVENT
DTSTART;TZID=America/Chicago:20260423T160000
DTEND;TZID=America/Chicago:20260423T163000
DTSTAMP:20260420T181451
CREATED:20260331T015117Z
LAST-MODIFIED:20260331T015117Z
UID:10063311-1776960000-1776961800@www.jccmilwaukee.org
SUMMARY:Youth Level 4
DESCRIPTION:
URL:https://www.jccmilwaukee.org/event/youth-level-4-4/2026-04-23/
LOCATION:Harry & Rose Samson Family JCC\, 6255 North Santa Monica Blvd\, Milwaukee\, WI\, 53217\, United States
CATEGORIES:Class
END:VEVENT
BEGIN:VEVENT
DTSTART;TZID=America/Chicago:20260423T160000
DTEND;TZID=America/Chicago:20260423T164500
DTSTAMP:20260420T181451
CREATED:20260303T181911Z
LAST-MODIFIED:20260303T181911Z
UID:10058058-1776960000-1776962700@www.jccmilwaukee.org
SUMMARY:Kids Cooking Class
DESCRIPTION:
URL:https://www.jccmilwaukee.org/event/kids-cooking-class/2026-04-23/
LOCATION:Harry & Rose Samson Family JCC\, 6255 North Santa Monica Blvd\, Milwaukee\, WI\, 53217\, United States
CATEGORIES:Class
END:VEVENT
BEGIN:VEVENT
DTSTART;TZID=America/Chicago:20260423T163500
DTEND;TZID=America/Chicago:20260423T170500
DTSTAMP:20260420T181451
CREATED:20260309T130619Z
LAST-MODIFIED:20260309T130619Z
UID:10059201-1776962100-1776963900@www.jccmilwaukee.org
SUMMARY:Youth Level 2
DESCRIPTION:
URL:https://www.jccmilwaukee.org/event/youth-level-2-2/2026-04-23/
LOCATION:Harry & Rose Samson Family JCC\, 6255 North Santa Monica Blvd\, Milwaukee\, WI\, 53217\, United States
CATEGORIES:Class
END:VEVENT
BEGIN:VEVENT
DTSTART;TZID=America/Chicago:20260423T163500
DTEND;TZID=America/Chicago:20260423T170500
DTSTAMP:20260420T181451
CREATED:20260311T223408Z
LAST-MODIFIED:20260311T223408Z
UID:10060696-1776962100-1776963900@www.jccmilwaukee.org
SUMMARY:Youth Level 3
DESCRIPTION:
URL:https://www.jccmilwaukee.org/event/youth-level-3/2026-04-23/
LOCATION:Harry & Rose Samson Family JCC\, 6255 North Santa Monica Blvd\, Milwaukee\, WI\, 53217\, United States
CATEGORIES:Class
END:VEVENT
BEGIN:VEVENT
DTSTART;TZID=America/Chicago:20260423T163500
DTEND;TZID=America/Chicago:20260423T170500
DTSTAMP:20260420T181451
CREATED:20260331T005919Z
LAST-MODIFIED:20260331T005919Z
UID:10063251-1776962100-1776963900@www.jccmilwaukee.org
SUMMARY:Pre-School Level 3
DESCRIPTION:
URL:https://www.jccmilwaukee.org/event/pre-school-level-3-10/2026-04-23/
LOCATION:Harry & Rose Samson Family JCC\, 6255 North Santa Monica Blvd\, Milwaukee\, WI\, 53217\, United States
CATEGORIES:Class
END:VEVENT
BEGIN:VEVENT
DTSTART;TZID=America/Chicago:20260423T164500
DTEND;TZID=America/Chicago:20260423T171500
DTSTAMP:20260420T181451
CREATED:20260330T185114Z
LAST-MODIFIED:20260330T185114Z
UID:10063160-1776962700-1776964500@www.jccmilwaukee.org
SUMMARY:Laser Tag
DESCRIPTION:
URL:https://www.jccmilwaukee.org/event/laser-tag/2026-04-23/
LOCATION:Harry & Rose Samson Family JCC\, 6255 North Santa Monica Blvd\, Milwaukee\, WI\, 53217\, United States
CATEGORIES:Class
END:VEVENT
BEGIN:VEVENT
DTSTART;TZID=America/Chicago:20260423T171000
DTEND;TZID=America/Chicago:20260423T174000
DTSTAMP:20260420T181451
CREATED:20260317T155508Z
LAST-MODIFIED:20260317T155508Z
UID:10061921-1776964200-1776966000@www.jccmilwaukee.org
SUMMARY:Pre-School Level 2
DESCRIPTION:
URL:https://www.jccmilwaukee.org/event/pre-school-level-2-3/2026-04-23/
LOCATION:Harry & Rose Samson Family JCC\, 6255 North Santa Monica Blvd\, Milwaukee\, WI\, 53217\, United States
CATEGORIES:Class
END:VEVENT
BEGIN:VEVENT
DTSTART;TZID=America/Chicago:20260423T171000
DTEND;TZID=America/Chicago:20260423T174000
DTSTAMP:20260420T181451
CREATED:20260401T163211Z
LAST-MODIFIED:20260401T163211Z
UID:10063487-1776964200-1776966000@www.jccmilwaukee.org
SUMMARY:Youth Level 4
DESCRIPTION:
URL:https://www.jccmilwaukee.org/event/youth-level-4-9/2026-04-23/
LOCATION:Harry & Rose Samson Family JCC\, 6255 North Santa Monica Blvd\, Milwaukee\, WI\, 53217\, United States
CATEGORIES:Class
END:VEVENT
BEGIN:VEVENT
DTSTART;TZID=America/Chicago:20260423T171000
DTEND;TZID=America/Chicago:20260423T174000
DTSTAMP:20260420T181451
CREATED:20260404T024422Z
LAST-MODIFIED:20260404T024422Z
UID:10063740-1776964200-1776966000@www.jccmilwaukee.org
SUMMARY:Youth Level 3
DESCRIPTION:
URL:https://www.jccmilwaukee.org/event/youth-level-3-12/2026-04-23/
LOCATION:Harry & Rose Samson Family JCC\, 6255 North Santa Monica Blvd\, Milwaukee\, WI\, 53217\, United States
CATEGORIES:Class
END:VEVENT
BEGIN:VEVENT
DTSTART;TZID=America/Chicago:20260423T171000
DTEND;TZID=America/Chicago:20260423T174000
DTSTAMP:20260420T181451
CREATED:20260407T142228Z
LAST-MODIFIED:20260407T142228Z
UID:10063901-1776964200-1776966000@www.jccmilwaukee.org
SUMMARY:Youth Level 1
DESCRIPTION:
URL:https://www.jccmilwaukee.org/event/youth-level-1-6/2026-04-23/
LOCATION:Harry & Rose Samson Family JCC\, 6255 North Santa Monica Blvd\, Milwaukee\, WI\, 53217\, United States
CATEGORIES:Class
END:VEVENT
END:VCALENDAR