BEGIN:VCALENDAR
VERSION:2.0
PRODID:-//Harry &amp; Rose Samson Family Jewish Community Center - ECPv6.6.4.2//NONSGML v1.0//EN
CALSCALE:GREGORIAN
METHOD:PUBLISH
X-WR-CALNAME:Harry &amp; Rose Samson Family Jewish Community Center
X-ORIGINAL-URL:https://www.jccmilwaukee.org
X-WR-CALDESC:Events for Harry &amp; Rose Samson Family Jewish Community Center
REFRESH-INTERVAL;VALUE=DURATION:PT1H
X-Robots-Tag:noindex
X-PUBLISHED-TTL:PT1H
BEGIN:VTIMEZONE
TZID:America/Chicago
BEGIN:DAYLIGHT
TZOFFSETFROM:-0600
TZOFFSETTO:-0500
TZNAME:CDT
DTSTART:20260308T080000
END:DAYLIGHT
BEGIN:STANDARD
TZOFFSETFROM:-0500
TZOFFSETTO:-0600
TZNAME:CST
DTSTART:20261101T070000
END:STANDARD
END:VTIMEZONE
BEGIN:VEVENT
DTSTART;TZID=America/Chicago:20260427T160000
DTEND;TZID=America/Chicago:20260427T163000
DTSTAMP:20260422T115050
CREATED:20260309T010311Z
LAST-MODIFIED:20260309T010311Z
UID:10059030-1777305600-1777307400@www.jccmilwaukee.org
SUMMARY:Pre-School Level 3
DESCRIPTION:
URL:https://www.jccmilwaukee.org/event/pre-school-level-3-4/2026-04-27/
LOCATION:Harry & Rose Samson Family JCC\, 6255 North Santa Monica Blvd\, Milwaukee\, WI\, 53217\, United States
CATEGORIES:Class
END:VEVENT
BEGIN:VEVENT
DTSTART;TZID=America/Chicago:20260427T160000
DTEND;TZID=America/Chicago:20260427T163000
DTSTAMP:20260422T115050
CREATED:20260309T131725Z
LAST-MODIFIED:20260309T131725Z
UID:10059358-1777305600-1777307400@www.jccmilwaukee.org
SUMMARY:Ultimate Ninja Warrior
DESCRIPTION:
URL:https://www.jccmilwaukee.org/event/ultimate-ninja-warrior/2026-04-27/
LOCATION:Harry & Rose Samson Family JCC\, 6255 North Santa Monica Blvd\, Milwaukee\, WI\, 53217\, United States
CATEGORIES:Class
END:VEVENT
BEGIN:VEVENT
DTSTART;TZID=America/Chicago:20260427T160000
DTEND;TZID=America/Chicago:20260427T163000
DTSTAMP:20260422T115050
CREATED:20260309T143328Z
LAST-MODIFIED:20260309T143328Z
UID:10059734-1777305600-1777307400@www.jccmilwaukee.org
SUMMARY:Youth Level 2
DESCRIPTION:
URL:https://www.jccmilwaukee.org/event/youth-level-2-4/2026-04-27/
LOCATION:Harry & Rose Samson Family JCC\, 6255 North Santa Monica Blvd\, Milwaukee\, WI\, 53217\, United States
CATEGORIES:Class
END:VEVENT
BEGIN:VEVENT
DTSTART;TZID=America/Chicago:20260427T163000
DTEND;TZID=America/Chicago:20260427T172000
DTSTAMP:20260422T115050
CREATED:20260307T230208Z
LAST-MODIFIED:20260307T230208Z
UID:10058820-1777307400-1777310400@www.jccmilwaukee.org
SUMMARY:Advanced Classical Reformer
DESCRIPTION:
URL:https://www.jccmilwaukee.org/event/advanced-classical-reformer-9/2026-04-27/
LOCATION:Harry & Rose Samson Family JCC\, 6255 North Santa Monica Blvd\, Milwaukee\, WI\, 53217\, United States
CATEGORIES:Class
END:VEVENT
BEGIN:VEVENT
DTSTART;TZID=America/Chicago:20260427T163500
DTEND;TZID=America/Chicago:20260427T170500
DTSTAMP:20260422T115050
CREATED:20260309T130626Z
LAST-MODIFIED:20260309T130626Z
UID:10059234-1777307700-1777309500@www.jccmilwaukee.org
SUMMARY:Youth Level 4
DESCRIPTION:
URL:https://www.jccmilwaukee.org/event/youth-level-4/2026-04-27/
LOCATION:Harry & Rose Samson Family JCC\, 6255 North Santa Monica Blvd\, Milwaukee\, WI\, 53217\, United States
CATEGORIES:Class
END:VEVENT
BEGIN:VEVENT
DTSTART;TZID=America/Chicago:20260427T163500
DTEND;TZID=America/Chicago:20260427T170500
DTSTAMP:20260422T115050
CREATED:20260309T162108Z
LAST-MODIFIED:20260309T162108Z
UID:10059998-1777307700-1777309500@www.jccmilwaukee.org
SUMMARY:Youth Level 3
DESCRIPTION:
URL:https://www.jccmilwaukee.org/event/youth-level-3-5/2026-04-27/
LOCATION:Harry & Rose Samson Family JCC\, 6255 North Santa Monica Blvd\, Milwaukee\, WI\, 53217\, United States
CATEGORIES:Class
END:VEVENT
BEGIN:VEVENT
DTSTART;TZID=America/Chicago:20260427T163500
DTEND;TZID=America/Chicago:20260427T170500
DTSTAMP:20260422T115050
CREATED:20260316T144309Z
LAST-MODIFIED:20260316T144309Z
UID:10061719-1777307700-1777309500@www.jccmilwaukee.org
SUMMARY:Pre-School Level 1
DESCRIPTION:
URL:https://www.jccmilwaukee.org/event/pre-school-level-1-6/2026-04-27/
LOCATION:Harry & Rose Samson Family JCC\, 6255 North Santa Monica Blvd\, Milwaukee\, WI\, 53217\, United States
CATEGORIES:Class
END:VEVENT
BEGIN:VEVENT
DTSTART;TZID=America/Chicago:20260427T163500
DTEND;TZID=America/Chicago:20260427T170500
DTSTAMP:20260422T115050
CREATED:20260331T005931Z
LAST-MODIFIED:20260331T005931Z
UID:10063260-1777307700-1777309500@www.jccmilwaukee.org
SUMMARY:Pre-School Level 2
DESCRIPTION:
URL:https://www.jccmilwaukee.org/event/pre-school-level-2-15/2026-04-27/
LOCATION:Harry & Rose Samson Family JCC\, 6255 North Santa Monica Blvd\, Milwaukee\, WI\, 53217\, United States
CATEGORIES:Class
END:VEVENT
BEGIN:VEVENT
DTSTART;TZID=America/Chicago:20260427T164500
DTEND;TZID=America/Chicago:20260427T171500
DTSTAMP:20260422T115050
CREATED:20260312T191215Z
LAST-MODIFIED:20260312T191215Z
UID:10061014-1777308300-1777310100@www.jccmilwaukee.org
SUMMARY:Ultimate Ninja Warrior
DESCRIPTION:
URL:https://www.jccmilwaukee.org/event/ultimate-ninja-warrior-2/2026-04-27/
LOCATION:Harry & Rose Samson Family JCC\, 6255 North Santa Monica Blvd\, Milwaukee\, WI\, 53217\, United States
CATEGORIES:Class
END:VEVENT
BEGIN:VEVENT
DTSTART;TZID=America/Chicago:20260427T171000
DTEND;TZID=America/Chicago:20260427T174000
DTSTAMP:20260422T115050
CREATED:20260317T152226Z
LAST-MODIFIED:20260317T152226Z
UID:10061878-1777309800-1777311600@www.jccmilwaukee.org
SUMMARY:Pre-School Level 1
DESCRIPTION:
URL:https://www.jccmilwaukee.org/event/pre-school-level-1-15/2026-04-27/
LOCATION:Harry & Rose Samson Family JCC\, 6255 North Santa Monica Blvd\, Milwaukee\, WI\, 53217\, United States
CATEGORIES:Class
END:VEVENT
BEGIN:VEVENT
DTSTART;TZID=America/Chicago:20260427T171000
DTEND;TZID=America/Chicago:20260427T174000
DTSTAMP:20260422T115050
CREATED:20260401T163201Z
LAST-MODIFIED:20260401T163201Z
UID:10063480-1777309800-1777311600@www.jccmilwaukee.org
SUMMARY:Youth Level 4
DESCRIPTION:
URL:https://www.jccmilwaukee.org/event/youth-level-4-7/2026-04-27/
LOCATION:Harry & Rose Samson Family JCC\, 6255 North Santa Monica Blvd\, Milwaukee\, WI\, 53217\, United States
CATEGORIES:Class
END:VEVENT
BEGIN:VEVENT
DTSTART;TZID=America/Chicago:20260427T171000
DTEND;TZID=America/Chicago:20260427T174000
DTSTAMP:20260422T115050
CREATED:20260407T152637Z
LAST-MODIFIED:20260407T152637Z
UID:10063954-1777309800-1777311600@www.jccmilwaukee.org
SUMMARY:Youth Level 2
DESCRIPTION:
URL:https://www.jccmilwaukee.org/event/youth-level-2-10/2026-04-27/
LOCATION:Harry & Rose Samson Family JCC\, 6255 North Santa Monica Blvd\, Milwaukee\, WI\, 53217\, United States
CATEGORIES:Class
END:VEVENT
BEGIN:VEVENT
DTSTART;TZID=America/Chicago:20260427T173000
DTEND;TZID=America/Chicago:20260427T180000
DTSTAMP:20260422T115050
CREATED:20260312T191217Z
LAST-MODIFIED:20260312T191217Z
UID:10061022-1777311000-1777312800@www.jccmilwaukee.org
SUMMARY:Ultimate Ninja Warrior
DESCRIPTION:
URL:https://www.jccmilwaukee.org/event/ultimate-ninja-warrior-5/2026-04-27/
LOCATION:Harry & Rose Samson Family JCC\, 6255 North Santa Monica Blvd\, Milwaukee\, WI\, 53217\, United States
CATEGORIES:Class
END:VEVENT
BEGIN:VEVENT
DTSTART;TZID=America/Chicago:20260428T000000
DTEND;TZID=America/Chicago:20260428T000000
DTSTAMP:20260422T115050
CREATED:20260317T173808Z
LAST-MODIFIED:20260317T173808Z
UID:10061969-1777334400-1777334400@www.jccmilwaukee.org
SUMMARY:HYROX
DESCRIPTION:
URL:https://www.jccmilwaukee.org/event/hyrox/2026-04-28/
LOCATION:Harry & Rose Samson Family JCC\, 6255 North Santa Monica Blvd\, Milwaukee\, WI\, 53217\, United States
CATEGORIES:Class
END:VEVENT
BEGIN:VEVENT
DTSTART;TZID=America/Chicago:20260428T073000
DTEND;TZID=America/Chicago:20260428T083000
DTSTAMP:20260422T115051
CREATED:20260309T133834Z
LAST-MODIFIED:20260309T133834Z
UID:10059654-1777361400-1777365000@www.jccmilwaukee.org
SUMMARY:April Masters Swim Team
DESCRIPTION:
URL:https://www.jccmilwaukee.org/event/april-masters-swim-team/2026-04-28/
LOCATION:Harry & Rose Samson Family JCC\, 6255 North Santa Monica Blvd\, Milwaukee\, WI\, 53217\, United States
CATEGORIES:Class
END:VEVENT
BEGIN:VEVENT
DTSTART;TZID=America/Chicago:20260428T080000
DTEND;TZID=America/Chicago:20260428T110000
DTSTAMP:20260422T115051
CREATED:20260417T224409Z
LAST-MODIFIED:20260417T224409Z
UID:10064722-1777363200-1777374000@www.jccmilwaukee.org
SUMMARY:Tuesday\, April 28
DESCRIPTION:
URL:https://www.jccmilwaukee.org/event/tuesday-april-28/
LOCATION:Harry & Rose Samson Family JCC\, 6255 North Santa Monica Blvd\, Milwaukee\, WI\, 53217\, United States
CATEGORIES:Class
END:VEVENT
BEGIN:VEVENT
DTSTART;TZID=America/Chicago:20260428T081500
DTEND;TZID=America/Chicago:20260428T090500
DTSTAMP:20260422T115051
CREATED:20260306T153310Z
LAST-MODIFIED:20260306T153310Z
UID:10058415-1777364100-1777367100@www.jccmilwaukee.org
SUMMARY:Intermediate Contemporary Reformer
DESCRIPTION:
URL:https://www.jccmilwaukee.org/event/intermediate-contemporary-reformer-2/2026-04-28/
LOCATION:Harry & Rose Samson Family JCC\, 6255 North Santa Monica Blvd\, Milwaukee\, WI\, 53217\, United States
CATEGORIES:Class
END:VEVENT
BEGIN:VEVENT
DTSTART;TZID=America/Chicago:20260428T091500
DTEND;TZID=America/Chicago:20260428T100500
DTSTAMP:20260422T115051
CREATED:20260306T163805Z
LAST-MODIFIED:20260306T163805Z
UID:10058527-1777367700-1777370700@www.jccmilwaukee.org
SUMMARY:Intro to Classical Reformer
DESCRIPTION:
URL:https://www.jccmilwaukee.org/event/intro-to-classical-reformer/2026-04-28/
LOCATION:Harry & Rose Samson Family JCC\, 6255 North Santa Monica Blvd\, Milwaukee\, WI\, 53217\, United States
CATEGORIES:Class
END:VEVENT
BEGIN:VEVENT
DTSTART;TZID=America/Chicago:20260428T101500
DTEND;TZID=America/Chicago:20260428T110500
DTSTAMP:20260422T115051
CREATED:20260309T142227Z
LAST-MODIFIED:20260309T142227Z
UID:10059690-1777371300-1777374300@www.jccmilwaukee.org
SUMMARY:Intermediate Classical Reformer
DESCRIPTION:
URL:https://www.jccmilwaukee.org/event/intermediate-classical-reformer-13/2026-04-28/
LOCATION:Harry & Rose Samson Family JCC\, 6255 North Santa Monica Blvd\, Milwaukee\, WI\, 53217\, United States
CATEGORIES:Class
END:VEVENT
BEGIN:VEVENT
DTSTART;TZID=America/Chicago:20260428T110000
DTEND;TZID=America/Chicago:20260428T113000
DTSTAMP:20260422T115051
CREATED:20260106T214713Z
LAST-MODIFIED:20260106T214713Z
UID:10055137-1777374000-1777375800@www.jccmilwaukee.org
SUMMARY:Open Play
DESCRIPTION:
URL:https://www.jccmilwaukee.org/event/open-play/2026-04-28/
LOCATION:Harry & Rose Samson Family JCC\, 6255 North Santa Monica Blvd\, Milwaukee\, WI\, 53217\, United States
CATEGORIES:Class
END:VEVENT
BEGIN:VEVENT
DTSTART;TZID=America/Chicago:20260428T110000
DTEND;TZID=America/Chicago:20260428T113000
DTSTAMP:20260422T115051
CREATED:20260106T214715Z
LAST-MODIFIED:20260106T214715Z
UID:10055147-1777374000-1777375800@www.jccmilwaukee.org
SUMMARY:Open Play
DESCRIPTION:
URL:https://www.jccmilwaukee.org/event/open-play-2/2026-04-28/
LOCATION:Harry & Rose Samson Family JCC\, 6255 North Santa Monica Blvd\, Milwaukee\, WI\, 53217\, United States
CATEGORIES:Class
END:VEVENT
BEGIN:VEVENT
DTSTART;TZID=America/Chicago:20260428T120000
DTEND;TZID=America/Chicago:20260428T130000
DTSTAMP:20260422T115051
CREATED:20260304T154808Z
LAST-MODIFIED:20260304T154808Z
UID:10058289-1777377600-1777381200@www.jccmilwaukee.org
SUMMARY:Midday Yoga Explorations: Power\, Flow + Recovery
DESCRIPTION:
URL:https://www.jccmilwaukee.org/event/midday-yoga-explorations-power-flow-recovery/2026-04-28/
LOCATION:Harry & Rose Samson Family JCC\, 6255 North Santa Monica Blvd\, Milwaukee\, WI\, 53217\, United States
CATEGORIES:Class
END:VEVENT
BEGIN:VEVENT
DTSTART;TZID=America/Chicago:20260428T130000
DTEND;TZID=America/Chicago:20260428T134500
DTSTAMP:20260422T115051
CREATED:20260309T130629Z
LAST-MODIFIED:20260309T130629Z
UID:10059250-1777381200-1777383900@www.jccmilwaukee.org
SUMMARY:Tennis Tots
DESCRIPTION:
URL:https://www.jccmilwaukee.org/event/tennis-tots-2/2026-04-28/
LOCATION:Harry & Rose Samson Family JCC\, 6255 North Santa Monica Blvd\, Milwaukee\, WI\, 53217\, United States
CATEGORIES:Class
END:VEVENT
BEGIN:VEVENT
DTSTART;TZID=America/Chicago:20260428T134500
DTEND;TZID=America/Chicago:20260428T143000
DTSTAMP:20260422T115051
CREATED:20260313T171408Z
LAST-MODIFIED:20260313T171408Z
UID:10061218-1777383900-1777386600@www.jccmilwaukee.org
SUMMARY:Tiny Spikers
DESCRIPTION:
URL:https://www.jccmilwaukee.org/event/tiny-spikers-2/2026-04-28/
LOCATION:Harry & Rose Samson Family JCC\, 6255 North Santa Monica Blvd\, Milwaukee\, WI\, 53217\, United States
CATEGORIES:Class
END:VEVENT
BEGIN:VEVENT
DTSTART;TZID=America/Chicago:20260428T140000
DTEND;TZID=America/Chicago:20260428T150000
DTSTAMP:20260422T115051
CREATED:20260308T155107Z
LAST-MODIFIED:20260308T155107Z
UID:10058926-1777384800-1777388400@www.jccmilwaukee.org
SUMMARY:Parkinsons Fitness
DESCRIPTION:
URL:https://www.jccmilwaukee.org/event/parkinsons-fitness/2026-04-28/
LOCATION:Harry & Rose Samson Family JCC\, 6255 North Santa Monica Blvd\, Milwaukee\, WI\, 53217\, United States
CATEGORIES:Class
END:VEVENT
BEGIN:VEVENT
DTSTART;TZID=America/Chicago:20260428T140000
DTEND;TZID=America/Chicago:20260428T153000
DTSTAMP:20260422T115051
CREATED:20251216T181914Z
LAST-MODIFIED:20251216T181914Z
UID:10051988-1777384800-1777390200@www.jccmilwaukee.org
SUMMARY:BYOG Game Open Play
DESCRIPTION:
URL:https://www.jccmilwaukee.org/event/byog-game-open-play/2026-04-28/
LOCATION:Harry & Rose Samson Family JCC\, 6255 North Santa Monica Blvd\, Milwaukee\, WI\, 53217\, United States
CATEGORIES:Class
END:VEVENT
BEGIN:VEVENT
DTSTART;TZID=America/Chicago:20260428T152000
DTEND;TZID=America/Chicago:20260428T155000
DTSTAMP:20260422T115051
CREATED:20260309T131720Z
LAST-MODIFIED:20260309T131720Z
UID:10059334-1777389600-1777391400@www.jccmilwaukee.org
SUMMARY:Soccer Stars
DESCRIPTION:
URL:https://www.jccmilwaukee.org/event/soccer-stars-2/2026-04-28/
LOCATION:Harry & Rose Samson Family JCC\, 6255 North Santa Monica Blvd\, Milwaukee\, WI\, 53217\, United States
CATEGORIES:Class
END:VEVENT
BEGIN:VEVENT
DTSTART;TZID=America/Chicago:20260428T152500
DTEND;TZID=America/Chicago:20260428T155500
DTSTAMP:20260422T115051
CREATED:20260309T131714Z
LAST-MODIFIED:20260309T131714Z
UID:10059282-1777389900-1777391700@www.jccmilwaukee.org
SUMMARY:Gan Ami Pre-School Level 3
DESCRIPTION:
URL:https://www.jccmilwaukee.org/event/gan-ami-pre-school-level-3-5/2026-04-28/
LOCATION:Harry & Rose Samson Family JCC\, 6255 North Santa Monica Blvd\, Milwaukee\, WI\, 53217\, United States
CATEGORIES:Class
END:VEVENT
BEGIN:VEVENT
DTSTART;TZID=America/Chicago:20260428T152500
DTEND;TZID=America/Chicago:20260428T155500
DTSTAMP:20260422T115051
CREATED:20260309T142209Z
LAST-MODIFIED:20260309T142209Z
UID:10059666-1777389900-1777391700@www.jccmilwaukee.org
SUMMARY:Gan Ami Pre-School Level 1
DESCRIPTION:
URL:https://www.jccmilwaukee.org/event/gan-ami-pre-school-level-1-7/2026-04-28/
LOCATION:Harry & Rose Samson Family JCC\, 6255 North Santa Monica Blvd\, Milwaukee\, WI\, 53217\, United States
CATEGORIES:Class
END:VEVENT
BEGIN:VEVENT
DTSTART;TZID=America/Chicago:20260428T152500
DTEND;TZID=America/Chicago:20260428T155500
DTSTAMP:20260422T115051
CREATED:20260320T182704Z
LAST-MODIFIED:20260320T182704Z
UID:10062280-1777389900-1777391700@www.jccmilwaukee.org
SUMMARY:Gan Ami Pre-School Level 2
DESCRIPTION:
URL:https://www.jccmilwaukee.org/event/gan-ami-pre-school-level-2/2026-04-28/
LOCATION:Harry & Rose Samson Family JCC\, 6255 North Santa Monica Blvd\, Milwaukee\, WI\, 53217\, United States
CATEGORIES:Class
END:VEVENT
END:VCALENDAR