BEGIN:VCALENDAR
VERSION:2.0
PRODID:-//Harry &amp; Rose Samson Family Jewish Community Center - ECPv6.6.4.2//NONSGML v1.0//EN
CALSCALE:GREGORIAN
METHOD:PUBLISH
X-ORIGINAL-URL:https://www.jccmilwaukee.org
X-WR-CALDESC:Events for Harry &amp; Rose Samson Family Jewish Community Center
REFRESH-INTERVAL;VALUE=DURATION:PT1H
X-Robots-Tag:noindex
X-PUBLISHED-TTL:PT1H
BEGIN:VTIMEZONE
TZID:America/Chicago
BEGIN:DAYLIGHT
TZOFFSETFROM:-0600
TZOFFSETTO:-0500
TZNAME:CDT
DTSTART:20260308T080000
END:DAYLIGHT
BEGIN:STANDARD
TZOFFSETFROM:-0500
TZOFFSETTO:-0600
TZNAME:CST
DTSTART:20261101T070000
END:STANDARD
END:VTIMEZONE
BEGIN:VEVENT
DTSTART;TZID=America/Chicago:20260428T160000
DTEND;TZID=America/Chicago:20260428T163000
DTSTAMP:20260422T150346
CREATED:20260312T234809Z
LAST-MODIFIED:20260312T234809Z
UID:10061083-1777392000-1777393800@www.jccmilwaukee.org
SUMMARY:Pre-School Level 1
DESCRIPTION:
URL:https://www.jccmilwaukee.org/event/pre-school-level-1-5/2026-04-28/
LOCATION:Harry & Rose Samson Family JCC\, 6255 North Santa Monica Blvd\, Milwaukee\, WI\, 53217\, United States
CATEGORIES:Class
END:VEVENT
BEGIN:VEVENT
DTSTART;TZID=America/Chicago:20260428T160000
DTEND;TZID=America/Chicago:20260428T163000
DTSTAMP:20260422T150346
CREATED:20260316T232409Z
LAST-MODIFIED:20260316T232409Z
UID:10061824-1777392000-1777393800@www.jccmilwaukee.org
SUMMARY:Youth Level 3
DESCRIPTION:
URL:https://www.jccmilwaukee.org/event/youth-level-3-8/2026-04-28/
LOCATION:Harry & Rose Samson Family JCC\, 6255 North Santa Monica Blvd\, Milwaukee\, WI\, 53217\, United States
CATEGORIES:Class
END:VEVENT
BEGIN:VEVENT
DTSTART;TZID=America/Chicago:20260428T163000
DTEND;TZID=America/Chicago:20260428T171500
DTSTAMP:20260422T150346
CREATED:20260305T220609Z
LAST-MODIFIED:20260305T220609Z
UID:10058357-1777393800-1777396500@www.jccmilwaukee.org
SUMMARY:Paint Outside the Lines
DESCRIPTION:
URL:https://www.jccmilwaukee.org/event/paint-outside-the-lines-2/2026-04-28/
LOCATION:Harry & Rose Samson Family JCC\, 6255 North Santa Monica Blvd\, Milwaukee\, WI\, 53217\, United States
CATEGORIES:Class
END:VEVENT
BEGIN:VEVENT
DTSTART;TZID=America/Chicago:20260428T163000
DTEND;TZID=America/Chicago:20260428T172000
DTSTAMP:20260422T150346
CREATED:20260307T231307Z
LAST-MODIFIED:20260307T231307Z
UID:10058828-1777393800-1777396800@www.jccmilwaukee.org
SUMMARY:Intermediate Mat and Tower Pilates
DESCRIPTION:
URL:https://www.jccmilwaukee.org/event/intermediate-mat-and-tower-pilates-7/2026-04-28/
LOCATION:Harry & Rose Samson Family JCC\, 6255 North Santa Monica Blvd\, Milwaukee\, WI\, 53217\, United States
CATEGORIES:Class
END:VEVENT
BEGIN:VEVENT
DTSTART;TZID=America/Chicago:20260428T163500
DTEND;TZID=America/Chicago:20260428T170500
DTSTAMP:20260422T150346
CREATED:20260309T132802Z
LAST-MODIFIED:20260309T132802Z
UID:10059506-1777394100-1777395900@www.jccmilwaukee.org
SUMMARY:Youth Level 1
DESCRIPTION:
URL:https://www.jccmilwaukee.org/event/youth-level-1-2/2026-04-28/
LOCATION:Harry & Rose Samson Family JCC\, 6255 North Santa Monica Blvd\, Milwaukee\, WI\, 53217\, United States
CATEGORIES:Class
END:VEVENT
BEGIN:VEVENT
DTSTART;TZID=America/Chicago:20260428T163500
DTEND;TZID=America/Chicago:20260428T170500
DTSTAMP:20260422T150346
CREATED:20260309T151609Z
LAST-MODIFIED:20260309T151609Z
UID:10059866-1777394100-1777395900@www.jccmilwaukee.org
SUMMARY:Pre-School Level 1
DESCRIPTION:
URL:https://www.jccmilwaukee.org/event/pre-school-level-1-9/2026-04-28/
LOCATION:Harry & Rose Samson Family JCC\, 6255 North Santa Monica Blvd\, Milwaukee\, WI\, 53217\, United States
CATEGORIES:Class
END:VEVENT
BEGIN:VEVENT
DTSTART;TZID=America/Chicago:20260428T163500
DTEND;TZID=America/Chicago:20260428T170500
DTSTAMP:20260422T150346
CREATED:20260312T021911Z
LAST-MODIFIED:20260312T021911Z
UID:10060749-1777394100-1777395900@www.jccmilwaukee.org
SUMMARY:Youth Level 2
DESCRIPTION:
URL:https://www.jccmilwaukee.org/event/youth-level-2-7/2026-04-28/
LOCATION:Harry & Rose Samson Family JCC\, 6255 North Santa Monica Blvd\, Milwaukee\, WI\, 53217\, United States
CATEGORIES:Class
END:VEVENT
BEGIN:VEVENT
DTSTART;TZID=America/Chicago:20260428T164500
DTEND;TZID=America/Chicago:20260428T171500
DTSTAMP:20260422T150346
CREATED:20260312T143621Z
LAST-MODIFIED:20260312T143621Z
UID:10060889-1777394700-1777396500@www.jccmilwaukee.org
SUMMARY:Soccer Stars
DESCRIPTION:
URL:https://www.jccmilwaukee.org/event/soccer-stars/2026-04-28/
LOCATION:Harry & Rose Samson Family JCC\, 6255 North Santa Monica Blvd\, Milwaukee\, WI\, 53217\, United States
CATEGORIES:Class
END:VEVENT
BEGIN:VEVENT
DTSTART;TZID=America/Chicago:20260428T170000
DTEND;TZID=America/Chicago:20260428T180000
DTSTAMP:20260422T150346
CREATED:20260309T194113Z
LAST-MODIFIED:20260309T194113Z
UID:10060058-1777395600-1777399200@www.jccmilwaukee.org
SUMMARY:Kids Competitive Swim Prep
DESCRIPTION:
URL:https://www.jccmilwaukee.org/event/kids-competitive-swim-prep/2026-04-28/
LOCATION:Harry & Rose Samson Family JCC\, 6255 North Santa Monica Blvd\, Milwaukee\, WI\, 53217\, United States
CATEGORIES:Class
END:VEVENT
BEGIN:VEVENT
DTSTART;TZID=America/Chicago:20260428T170000
DTEND;TZID=America/Chicago:20260428T180000
DTSTAMP:20260422T150346
CREATED:20260317T231409Z
LAST-MODIFIED:20260317T231409Z
UID:10061979-1777395600-1777399200@www.jccmilwaukee.org
SUMMARY:Adaptive Competitve Swim Prep
DESCRIPTION:
URL:https://www.jccmilwaukee.org/event/adaptive-competitve-swim-prep/2026-04-28/
LOCATION:Harry & Rose Samson Family JCC\, 6255 North Santa Monica Blvd\, Milwaukee\, WI\, 53217\, United States
CATEGORIES:Class
END:VEVENT
BEGIN:VEVENT
DTSTART;TZID=America/Chicago:20260428T171000
DTEND;TZID=America/Chicago:20260428T174000
DTSTAMP:20260422T150346
CREATED:20260309T011424Z
LAST-MODIFIED:20260309T011424Z
UID:10059170-1777396200-1777398000@www.jccmilwaukee.org
SUMMARY:Pre-School Level 3
DESCRIPTION:
URL:https://www.jccmilwaukee.org/event/pre-school-level-3-9/2026-04-28/
LOCATION:Harry & Rose Samson Family JCC\, 6255 North Santa Monica Blvd\, Milwaukee\, WI\, 53217\, United States
CATEGORIES:Class
END:VEVENT
BEGIN:VEVENT
DTSTART;TZID=America/Chicago:20260428T171000
DTEND;TZID=America/Chicago:20260428T174000
DTSTAMP:20260422T150346
CREATED:20260311T232808Z
LAST-MODIFIED:20260311T232808Z
UID:10060705-1777396200-1777398000@www.jccmilwaukee.org
SUMMARY:Youth Level 2
DESCRIPTION:
URL:https://www.jccmilwaukee.org/event/youth-level-2-6/2026-04-28/
LOCATION:Harry & Rose Samson Family JCC\, 6255 North Santa Monica Blvd\, Milwaukee\, WI\, 53217\, United States
CATEGORIES:Class
END:VEVENT
BEGIN:VEVENT
DTSTART;TZID=America/Chicago:20260428T171000
DTEND;TZID=America/Chicago:20260428T174000
DTSTAMP:20260422T150346
CREATED:20260321T143009Z
LAST-MODIFIED:20260321T143009Z
UID:10062325-1777396200-1777398000@www.jccmilwaukee.org
SUMMARY:Youth Level 3
DESCRIPTION:
URL:https://www.jccmilwaukee.org/event/youth-level-3-9/2026-04-28/
LOCATION:Harry & Rose Samson Family JCC\, 6255 North Santa Monica Blvd\, Milwaukee\, WI\, 53217\, United States
CATEGORIES:Class
END:VEVENT
BEGIN:VEVENT
DTSTART;TZID=America/Chicago:20260428T173000
DTEND;TZID=America/Chicago:20260428T180000
DTSTAMP:20260422T150346
CREATED:20260312T143622Z
LAST-MODIFIED:20260312T143622Z
UID:10060897-1777397400-1777399200@www.jccmilwaukee.org
SUMMARY:Soccer Stars
DESCRIPTION:
URL:https://www.jccmilwaukee.org/event/soccer-stars-5/2026-04-28/
LOCATION:Harry & Rose Samson Family JCC\, 6255 North Santa Monica Blvd\, Milwaukee\, WI\, 53217\, United States
CATEGORIES:Class
END:VEVENT
BEGIN:VEVENT
DTSTART;TZID=America/Chicago:20260428T180000
DTEND;TZID=America/Chicago:20260428T190000
DTSTAMP:20260422T150346
CREATED:20260324T160115Z
LAST-MODIFIED:20260324T160115Z
UID:10062744-1777399200-1777402800@www.jccmilwaukee.org
SUMMARY:Chaverim: Yoga with Fruit Cups
DESCRIPTION:
URL:https://www.jccmilwaukee.org/event/chaverim-yoga-with-fruit-cups/
LOCATION:Harry & Rose Samson Family JCC\, 6255 North Santa Monica Blvd\, Milwaukee\, WI\, 53217\, United States
CATEGORIES:Class
END:VEVENT
BEGIN:VEVENT
DTSTART;TZID=America/Chicago:20260429T080000
DTEND;TZID=America/Chicago:20260429T085000
DTSTAMP:20260422T150346
CREATED:20260306T173012Z
LAST-MODIFIED:20260306T173012Z
UID:10058571-1777449600-1777452600@www.jccmilwaukee.org
SUMMARY:Advanced Classical Reformer
DESCRIPTION:
URL:https://www.jccmilwaukee.org/event/advanced-classical-reformer-8/2026-04-29/
LOCATION:Harry & Rose Samson Family JCC\, 6255 North Santa Monica Blvd\, Milwaukee\, WI\, 53217\, United States
CATEGORIES:Class
END:VEVENT
BEGIN:VEVENT
DTSTART;TZID=America/Chicago:20260429T080000
DTEND;TZID=America/Chicago:20260429T110000
DTSTAMP:20260422T150346
CREATED:20260417T224411Z
LAST-MODIFIED:20260417T224411Z
UID:10064723-1777449600-1777460400@www.jccmilwaukee.org
SUMMARY:Wednesday\, April 29
DESCRIPTION:
URL:https://www.jccmilwaukee.org/event/wednesday-april-29/
LOCATION:Harry & Rose Samson Family JCC\, 6255 North Santa Monica Blvd\, Milwaukee\, WI\, 53217\, United States
CATEGORIES:Class
END:VEVENT
BEGIN:VEVENT
DTSTART;TZID=America/Chicago:20260429T090000
DTEND;TZID=America/Chicago:20260429T095000
DTSTAMP:20260422T150346
CREATED:20260306T175204Z
LAST-MODIFIED:20260306T175204Z
UID:10058615-1777453200-1777456200@www.jccmilwaukee.org
SUMMARY:Intermediate Classical Reformer
DESCRIPTION:
URL:https://www.jccmilwaukee.org/event/intermediate-classical-reformer-10/2026-04-29/
LOCATION:Harry & Rose Samson Family JCC\, 6255 North Santa Monica Blvd\, Milwaukee\, WI\, 53217\, United States
CATEGORIES:Class
END:VEVENT
BEGIN:VEVENT
DTSTART;TZID=America/Chicago:20260429T093000
DTEND;TZID=America/Chicago:20260429T100000
DTSTAMP:20260422T150346
CREATED:20260311T151418Z
LAST-MODIFIED:20260311T151418Z
UID:10060469-1777455000-1777456800@www.jccmilwaukee.org
SUMMARY:Tunnel City (Baby Edition)
DESCRIPTION:
URL:https://www.jccmilwaukee.org/event/tunnel-city-baby-edition/2026-04-29/
LOCATION:Harry & Rose Samson Family JCC\, 6255 North Santa Monica Blvd\, Milwaukee\, WI\, 53217\, United States
CATEGORIES:Class
END:VEVENT
BEGIN:VEVENT
DTSTART;TZID=America/Chicago:20260429T110000
DTEND;TZID=America/Chicago:20260429T113000
DTSTAMP:20260422T150346
CREATED:20251212T192611Z
LAST-MODIFIED:20251212T192611Z
UID:10051798-1777460400-1777462200@www.jccmilwaukee.org
SUMMARY:Creative Movement
DESCRIPTION:
URL:https://www.jccmilwaukee.org/event/creative-movement/2026-04-29/
LOCATION:Harry & Rose Samson Family JCC\, 6255 North Santa Monica Blvd\, Milwaukee\, WI\, 53217\, United States
CATEGORIES:Class
END:VEVENT
BEGIN:VEVENT
DTSTART;TZID=America/Chicago:20260429T110000
DTEND;TZID=America/Chicago:20260429T113000
DTSTAMP:20260422T150346
CREATED:20251212T192613Z
LAST-MODIFIED:20251212T192613Z
UID:10051814-1777460400-1777462200@www.jccmilwaukee.org
SUMMARY:Creative Movement
DESCRIPTION:
URL:https://www.jccmilwaukee.org/event/creative-movement-2/2026-04-29/
LOCATION:Harry & Rose Samson Family JCC\, 6255 North Santa Monica Blvd\, Milwaukee\, WI\, 53217\, United States
CATEGORIES:Class
END:VEVENT
BEGIN:VEVENT
DTSTART;TZID=America/Chicago:20260429T110000
DTEND;TZID=America/Chicago:20260429T113000
DTSTAMP:20260422T150346
CREATED:20251212T192615Z
LAST-MODIFIED:20251212T192615Z
UID:10051829-1777460400-1777462200@www.jccmilwaukee.org
SUMMARY:Creative Movement
DESCRIPTION:
URL:https://www.jccmilwaukee.org/event/creative-movement-3/2026-04-29/
LOCATION:Harry & Rose Samson Family JCC\, 6255 North Santa Monica Blvd\, Milwaukee\, WI\, 53217\, United States
CATEGORIES:Class
END:VEVENT
BEGIN:VEVENT
DTSTART;TZID=America/Chicago:20260429T110000
DTEND;TZID=America/Chicago:20260429T113000
DTSTAMP:20260422T150346
CREATED:20251212T192617Z
LAST-MODIFIED:20251212T192617Z
UID:10051843-1777460400-1777462200@www.jccmilwaukee.org
SUMMARY:Creative Movement
DESCRIPTION:
URL:https://www.jccmilwaukee.org/event/creative-movement-4/2026-04-29/
LOCATION:Harry & Rose Samson Family JCC\, 6255 North Santa Monica Blvd\, Milwaukee\, WI\, 53217\, United States
CATEGORIES:Class
END:VEVENT
BEGIN:VEVENT
DTSTART;TZID=America/Chicago:20260429T110000
DTEND;TZID=America/Chicago:20260429T113000
DTSTAMP:20260422T150346
CREATED:20251212T192619Z
LAST-MODIFIED:20251212T192619Z
UID:10051856-1777460400-1777462200@www.jccmilwaukee.org
SUMMARY:Creative Movement
DESCRIPTION:
URL:https://www.jccmilwaukee.org/event/creative-movement-5/2026-04-29/
LOCATION:Harry & Rose Samson Family JCC\, 6255 North Santa Monica Blvd\, Milwaukee\, WI\, 53217\, United States
CATEGORIES:Class
END:VEVENT
BEGIN:VEVENT
DTSTART;TZID=America/Chicago:20260429T110000
DTEND;TZID=America/Chicago:20260429T113000
DTSTAMP:20260422T150346
CREATED:20251212T192620Z
LAST-MODIFIED:20251212T192620Z
UID:10051868-1777460400-1777462200@www.jccmilwaukee.org
SUMMARY:Creative Movement
DESCRIPTION:
URL:https://www.jccmilwaukee.org/event/creative-movement-6/2026-04-29/
LOCATION:Harry & Rose Samson Family JCC\, 6255 North Santa Monica Blvd\, Milwaukee\, WI\, 53217\, United States
CATEGORIES:Class
END:VEVENT
BEGIN:VEVENT
DTSTART;TZID=America/Chicago:20260429T110000
DTEND;TZID=America/Chicago:20260429T113000
DTSTAMP:20260422T150346
CREATED:20251212T192622Z
LAST-MODIFIED:20251212T192622Z
UID:10051879-1777460400-1777462200@www.jccmilwaukee.org
SUMMARY:Creative Movement
DESCRIPTION:
URL:https://www.jccmilwaukee.org/event/creative-movement-7/2026-04-29/
LOCATION:Harry & Rose Samson Family JCC\, 6255 North Santa Monica Blvd\, Milwaukee\, WI\, 53217\, United States
CATEGORIES:Class
END:VEVENT
BEGIN:VEVENT
DTSTART;TZID=America/Chicago:20260429T110000
DTEND;TZID=America/Chicago:20260429T113000
DTSTAMP:20260422T150346
CREATED:20251212T192624Z
LAST-MODIFIED:20251212T192624Z
UID:10051889-1777460400-1777462200@www.jccmilwaukee.org
SUMMARY:Creative Movement
DESCRIPTION:
URL:https://www.jccmilwaukee.org/event/creative-movement-8/2026-04-29/
LOCATION:Harry & Rose Samson Family JCC\, 6255 North Santa Monica Blvd\, Milwaukee\, WI\, 53217\, United States
CATEGORIES:Class
END:VEVENT
BEGIN:VEVENT
DTSTART;TZID=America/Chicago:20260429T110000
DTEND;TZID=America/Chicago:20260429T113000
DTSTAMP:20260422T150346
CREATED:20251212T192626Z
LAST-MODIFIED:20251212T192626Z
UID:10051898-1777460400-1777462200@www.jccmilwaukee.org
SUMMARY:Creative Movement
DESCRIPTION:
URL:https://www.jccmilwaukee.org/event/creative-movement-9/2026-04-29/
LOCATION:Harry & Rose Samson Family JCC\, 6255 North Santa Monica Blvd\, Milwaukee\, WI\, 53217\, United States
CATEGORIES:Class
END:VEVENT
BEGIN:VEVENT
DTSTART;TZID=America/Chicago:20260429T110000
DTEND;TZID=America/Chicago:20260429T113000
DTSTAMP:20260422T150346
CREATED:20251212T192628Z
LAST-MODIFIED:20251212T192628Z
UID:10051906-1777460400-1777462200@www.jccmilwaukee.org
SUMMARY:Creative Movement
DESCRIPTION:
URL:https://www.jccmilwaukee.org/event/creative-movement-10/2026-04-29/
LOCATION:Harry & Rose Samson Family JCC\, 6255 North Santa Monica Blvd\, Milwaukee\, WI\, 53217\, United States
CATEGORIES:Class
END:VEVENT
BEGIN:VEVENT
DTSTART;TZID=America/Chicago:20260429T130000
DTEND;TZID=America/Chicago:20260429T134500
DTSTAMP:20260422T150346
CREATED:20260303T181909Z
LAST-MODIFIED:20260303T181909Z
UID:10058051-1777467600-1777470300@www.jccmilwaukee.org
SUMMARY:Wisconsin Conservatory of Music Smart Start
DESCRIPTION:
URL:https://www.jccmilwaukee.org/event/wisconsin-conservatory-of-music-smart-start-3/2026-04-29/
LOCATION:Harry & Rose Samson Family JCC\, 6255 North Santa Monica Blvd\, Milwaukee\, WI\, 53217\, United States
CATEGORIES:Class
END:VEVENT
END:VCALENDAR