BEGIN:VCALENDAR
VERSION:2.0
PRODID:-//Harry &amp; Rose Samson Family Jewish Community Center - ECPv6.6.4.2//NONSGML v1.0//EN
CALSCALE:GREGORIAN
METHOD:PUBLISH
X-WR-CALNAME:Harry &amp; Rose Samson Family Jewish Community Center
X-ORIGINAL-URL:https://www.jccmilwaukee.org
X-WR-CALDESC:Events for Harry &amp; Rose Samson Family Jewish Community Center
REFRESH-INTERVAL;VALUE=DURATION:PT1H
X-Robots-Tag:noindex
X-PUBLISHED-TTL:PT1H
BEGIN:VTIMEZONE
TZID:America/Chicago
BEGIN:DAYLIGHT
TZOFFSETFROM:-0600
TZOFFSETTO:-0500
TZNAME:CDT
DTSTART:20260308T080000
END:DAYLIGHT
BEGIN:STANDARD
TZOFFSETFROM:-0500
TZOFFSETTO:-0600
TZNAME:CST
DTSTART:20261101T070000
END:STANDARD
END:VTIMEZONE
BEGIN:VEVENT
DTSTART;TZID=America/Chicago:20260419T130000
DTEND;TZID=America/Chicago:20260419T150000
DTSTAMP:20260419T072945
CREATED:20260409T175310Z
LAST-MODIFIED:20260414T184842Z
UID:10064289-1776603600-1776610800@www.jccmilwaukee.org
SUMMARY:CANCELED: Cardboard Boat Race
DESCRIPTION:AttentionThis program has been canceled. We hope to welcome you at a future offering. \n\n\n\nSunday\, April 19 | 1:00 – 3:00 PMAges 3+ years with adultLocation: Peck Aquatic Center\, JCC \n\n\n\nJCC Member | $25 per familyCommunity | $20 per family \n\n\n\n\nRegister
URL:https://www.jccmilwaukee.org/event/cardboard-boat-race-2/
LOCATION:Harry & Rose Samson Family JCC\, 6255 North Santa Monica Blvd\, Milwaukee\, WI\, 53217\, United States
CATEGORIES:Event
ATTACH;FMTTYPE=image/png:https://www.jccmilwaukee.org/wp-content/uploads/2025/12/Mahj-option-1-17.png
END:VEVENT
END:VCALENDAR